BEGIN:VCALENDAR
VERSION:2.0
PRODID:-//Foundation of Hope - ECPv6.15.18//NONSGML v1.0//EN
CALSCALE:GREGORIAN
METHOD:PUBLISH
X-ORIGINAL-URL:https://www.foundationofhope.org
X-WR-CALDESC:Events for Foundation of Hope
REFRESH-INTERVAL;VALUE=DURATION:PT1H
X-Robots-Tag:noindex
X-PUBLISHED-TTL:PT1H
BEGIN:VTIMEZONE
TZID:America/New_York
BEGIN:DAYLIGHT
TZOFFSETFROM:-0500
TZOFFSETTO:-0400
TZNAME:EDT
DTSTART:20230312T070000
END:DAYLIGHT
BEGIN:STANDARD
TZOFFSETFROM:-0400
TZOFFSETTO:-0500
TZNAME:EST
DTSTART:20231105T060000
END:STANDARD
BEGIN:DAYLIGHT
TZOFFSETFROM:-0500
TZOFFSETTO:-0400
TZNAME:EDT
DTSTART:20240310T070000
END:DAYLIGHT
BEGIN:STANDARD
TZOFFSETFROM:-0400
TZOFFSETTO:-0500
TZNAME:EST
DTSTART:20241103T060000
END:STANDARD
BEGIN:DAYLIGHT
TZOFFSETFROM:-0500
TZOFFSETTO:-0400
TZNAME:EDT
DTSTART:20250309T070000
END:DAYLIGHT
BEGIN:STANDARD
TZOFFSETFROM:-0400
TZOFFSETTO:-0500
TZNAME:EST
DTSTART:20251102T060000
END:STANDARD
END:VTIMEZONE
BEGIN:VEVENT
DTSTART;TZID=America/New_York:20241231T080000
DTEND;TZID=America/New_York:20241231T170000
DTSTAMP:20260425T174536
CREATED:20230628T202150Z
LAST-MODIFIED:20240617T141710Z
UID:10005077-1735632000-1735664400@www.foundationofhope.org
SUMMARY:OFFICE CLOSED
DESCRIPTION:
URL:https://www.foundationofhope.org/event/office-closed/2024-12-31/
LOCATION:Foundation of HOPE\, 901 Pennsylvania Avenue\, Suite 3A\, Pittsburgh\, PA\, 15233\, United States
END:VEVENT
BEGIN:VEVENT
DTSTART;TZID=America/New_York:20241231T190000
DTEND;TZID=America/New_York:20241231T200000
DTSTAMP:20260425T174536
CREATED:20180626T234844Z
LAST-MODIFIED:20240629T162514Z
UID:10000786-1735671600-1735675200@www.foundationofhope.org
SUMMARY:Weekly PIRC Support Group – Northside (Tuesday)
DESCRIPTION:Weekly PIRC Support Group (Positive Initiative to Reinforce Change)\nThe PIRC Movement is for returning citizens and their supporters to change the community by first changing themselves.\nWe meet every Tuesday from 7:00-8:00 pm.\nThis group is for men and women. All are welcome and no need to RSVP.
URL:https://www.foundationofhope.org/event/weekly-pirc-support-group/2024-12-31/
LOCATION:Foundation of HOPE\, 901 Pennsylvania Avenue\, Suite 3A\, Pittsburgh\, PA\, 15233\, United States
CATEGORIES:Reentry
ATTACH;FMTTYPE=image/webp:https://www.foundationofhope.org/wp-content/uploads/reentry-calendar-feature.webp
END:VEVENT
END:VCALENDAR