BEGIN:VCALENDAR
VERSION:2.0
PRODID:-//Foundation of Hope - ECPv6.15.18//NONSGML v1.0//EN
CALSCALE:GREGORIAN
METHOD:PUBLISH
X-WR-CALNAME:Foundation of Hope
X-ORIGINAL-URL:https://www.foundationofhope.org
X-WR-CALDESC:Events for Foundation of Hope
REFRESH-INTERVAL;VALUE=DURATION:PT1H
X-Robots-Tag:noindex
X-PUBLISHED-TTL:PT1H
BEGIN:VTIMEZONE
TZID:America/New_York
BEGIN:DAYLIGHT
TZOFFSETFROM:-0500
TZOFFSETTO:-0400
TZNAME:EDT
DTSTART:20230312T070000
END:DAYLIGHT
BEGIN:STANDARD
TZOFFSETFROM:-0400
TZOFFSETTO:-0500
TZNAME:EST
DTSTART:20231105T060000
END:STANDARD
BEGIN:DAYLIGHT
TZOFFSETFROM:-0500
TZOFFSETTO:-0400
TZNAME:EDT
DTSTART:20240310T070000
END:DAYLIGHT
BEGIN:STANDARD
TZOFFSETFROM:-0400
TZOFFSETTO:-0500
TZNAME:EST
DTSTART:20241103T060000
END:STANDARD
BEGIN:DAYLIGHT
TZOFFSETFROM:-0500
TZOFFSETTO:-0400
TZNAME:EDT
DTSTART:20250309T070000
END:DAYLIGHT
BEGIN:STANDARD
TZOFFSETFROM:-0400
TZOFFSETTO:-0500
TZNAME:EST
DTSTART:20251102T060000
END:STANDARD
END:VTIMEZONE
BEGIN:VEVENT
DTSTART;TZID=America/New_York:20240913T130000
DTEND;TZID=America/New_York:20240913T140000
DTSTAMP:20260422T185041
CREATED:20240123T192213Z
LAST-MODIFIED:20240629T161233Z
UID:10004837-1726232400-1726236000@www.foundationofhope.org
SUMMARY:Weekly PIRC Support Group – Northside (Friday)
DESCRIPTION:Weekly PIRC Support Group (Positive Initiative to Reinforce Change)\nThe PIRC Movement is for returning citizens and their supporters to change the community by first changing themselves.\nWe meet every Friday from 1:00-2:00 pm.\nThis group is for men and women. All are welcome and no need to RSVP.
URL:https://www.foundationofhope.org/event/weekly-pirc-support-group-northside-friday/2024-09-13/
LOCATION:Foundation of HOPE\, 901 Pennsylvania Avenue\, Suite 3A\, Pittsburgh\, PA\, 15233\, United States
CATEGORIES:Reentry
ATTACH;FMTTYPE=image/webp:https://www.foundationofhope.org/wp-content/uploads/reentry-calendar-feature.webp
END:VEVENT
BEGIN:VEVENT
DTSTART;TZID=America/New_York:20240916T190000
DTEND;TZID=America/New_York:20240916T200000
DTSTAMP:20260422T185041
CREATED:20231213T220053Z
LAST-MODIFIED:20240703T203455Z
UID:10003720-1726513200-1726516800@www.foundationofhope.org
SUMMARY:Weekly PIRC Support Group – Sharpsburg
DESCRIPTION:Weekly PIRC Support Group (Positive Initiative to Reinforce Change)\nThe PIRC Movement is for returning citizens and their supporters to change the community by first changing themselves.\nWe meet every Wednesday from 7:00-8:00 pm.\nThis group is for men and women.\nAll are welcome and no need to RSVP.
URL:https://www.foundationofhope.org/event/weekly-pirc-support-group-sharpsburg/2024-09-16/
LOCATION:Roots of Faith\, 800 Main St.\, Sharpsburg\, PA\, 15215\, United States
CATEGORIES:Reentry
ATTACH;FMTTYPE=image/webp:https://www.foundationofhope.org/wp-content/uploads/reentry-calendar-feature.webp
END:VEVENT
BEGIN:VEVENT
DTSTART;TZID=America/New_York:20240917T190000
DTEND;TZID=America/New_York:20240917T200000
DTSTAMP:20260422T185041
CREATED:20180626T234844Z
LAST-MODIFIED:20240629T162514Z
UID:10000771-1726599600-1726603200@www.foundationofhope.org
SUMMARY:Weekly PIRC Support Group – Northside (Tuesday)
DESCRIPTION:Weekly PIRC Support Group (Positive Initiative to Reinforce Change)\nThe PIRC Movement is for returning citizens and their supporters to change the community by first changing themselves.\nWe meet every Tuesday from 7:00-8:00 pm.\nThis group is for men and women. All are welcome and no need to RSVP.
URL:https://www.foundationofhope.org/event/weekly-pirc-support-group/2024-09-17/
LOCATION:Foundation of HOPE\, 901 Pennsylvania Avenue\, Suite 3A\, Pittsburgh\, PA\, 15233\, United States
CATEGORIES:Reentry
ATTACH;FMTTYPE=image/webp:https://www.foundationofhope.org/wp-content/uploads/reentry-calendar-feature.webp
END:VEVENT
BEGIN:VEVENT
DTSTART;TZID=America/New_York:20240918T193000
DTEND;TZID=America/New_York:20240918T203000
DTSTAMP:20260422T185041
CREATED:20240703T203212Z
LAST-MODIFIED:20240703T203214Z
UID:10002151-1726687800-1726691400@www.foundationofhope.org
SUMMARY:Weekly PIRC Support Group – McKeesport
DESCRIPTION:Weekly PIRC Support Group (Positive Initiative to Reinforce Change)\nThe PIRC Movement is for returning citizens and their supporters to change the community by first changing themselves.\nWe meet every Wednesday from 7:30-8:30 pm.\nThis group is for men and women.\nAll are welcome and no need to RSVP.
URL:https://www.foundationofhope.org/event/weekly-pirc-support-group-mckeesport-2/2024-09-18/
LOCATION:McKeesport YMCA\, 523 Sinclair St.\, McKeesport\, PA\, 15132\, United States
CATEGORIES:Reentry
ATTACH;FMTTYPE=image/webp:https://www.foundationofhope.org/wp-content/uploads/reentry-calendar-feature.webp
END:VEVENT
BEGIN:VEVENT
DTSTART;TZID=America/New_York:20240919T180000
DTEND;TZID=America/New_York:20240919T190000
DTSTAMP:20260422T185041
CREATED:20230724T160032Z
LAST-MODIFIED:20240629T161404Z
UID:10002673-1726768800-1726772400@www.foundationofhope.org
SUMMARY:Weekly PIRC Support Group – McKees Rocks
DESCRIPTION:Weekly PIRC Support Group (Positive Initiative to Reinforce Change)\nThe PIRC Movement is for returning citizens and their supporters to change the community by first changing themselves.\nWe meet every Thursday from 6:00-7:00 pm.\nThis group is for men and women.\nAll are welcome and no need to RSVP.
URL:https://www.foundationofhope.org/event/weekly-pirc-support-group-mckees-rocks/2024-09-19/
LOCATION:C.A.S.H. Club\, 827 Broadway Avenue\, McKees Rocks\, PA\, 15136\, United States
CATEGORIES:Reentry
ATTACH;FMTTYPE=image/webp:https://www.foundationofhope.org/wp-content/uploads/reentry-calendar-feature.webp
END:VEVENT
BEGIN:VEVENT
DTSTART;TZID=America/New_York:20240920T130000
DTEND;TZID=America/New_York:20240920T140000
DTSTAMP:20260422T185041
CREATED:20240123T192213Z
LAST-MODIFIED:20240629T161233Z
UID:10004838-1726837200-1726840800@www.foundationofhope.org
SUMMARY:Weekly PIRC Support Group – Northside (Friday)
DESCRIPTION:Weekly PIRC Support Group (Positive Initiative to Reinforce Change)\nThe PIRC Movement is for returning citizens and their supporters to change the community by first changing themselves.\nWe meet every Friday from 1:00-2:00 pm.\nThis group is for men and women. All are welcome and no need to RSVP.
URL:https://www.foundationofhope.org/event/weekly-pirc-support-group-northside-friday/2024-09-20/
LOCATION:Foundation of HOPE\, 901 Pennsylvania Avenue\, Suite 3A\, Pittsburgh\, PA\, 15233\, United States
CATEGORIES:Reentry
ATTACH;FMTTYPE=image/webp:https://www.foundationofhope.org/wp-content/uploads/reentry-calendar-feature.webp
END:VEVENT
BEGIN:VEVENT
DTSTART;TZID=America/New_York:20240923T190000
DTEND;TZID=America/New_York:20240923T200000
DTSTAMP:20260422T185041
CREATED:20231213T220053Z
LAST-MODIFIED:20240703T203455Z
UID:10003721-1727118000-1727121600@www.foundationofhope.org
SUMMARY:Weekly PIRC Support Group – Sharpsburg
DESCRIPTION:Weekly PIRC Support Group (Positive Initiative to Reinforce Change)\nThe PIRC Movement is for returning citizens and their supporters to change the community by first changing themselves.\nWe meet every Wednesday from 7:00-8:00 pm.\nThis group is for men and women.\nAll are welcome and no need to RSVP.
URL:https://www.foundationofhope.org/event/weekly-pirc-support-group-sharpsburg/2024-09-23/
LOCATION:Roots of Faith\, 800 Main St.\, Sharpsburg\, PA\, 15215\, United States
CATEGORIES:Reentry
ATTACH;FMTTYPE=image/webp:https://www.foundationofhope.org/wp-content/uploads/reentry-calendar-feature.webp
END:VEVENT
BEGIN:VEVENT
DTSTART;TZID=America/New_York:20240924T190000
DTEND;TZID=America/New_York:20240924T200000
DTSTAMP:20260422T185041
CREATED:20180626T234844Z
LAST-MODIFIED:20240629T162514Z
UID:10000772-1727204400-1727208000@www.foundationofhope.org
SUMMARY:Weekly PIRC Support Group – Northside (Tuesday)
DESCRIPTION:Weekly PIRC Support Group (Positive Initiative to Reinforce Change)\nThe PIRC Movement is for returning citizens and their supporters to change the community by first changing themselves.\nWe meet every Tuesday from 7:00-8:00 pm.\nThis group is for men and women. All are welcome and no need to RSVP.
URL:https://www.foundationofhope.org/event/weekly-pirc-support-group/2024-09-24/
LOCATION:Foundation of HOPE\, 901 Pennsylvania Avenue\, Suite 3A\, Pittsburgh\, PA\, 15233\, United States
CATEGORIES:Reentry
ATTACH;FMTTYPE=image/webp:https://www.foundationofhope.org/wp-content/uploads/reentry-calendar-feature.webp
END:VEVENT
BEGIN:VEVENT
DTSTART;TZID=America/New_York:20240925T193000
DTEND;TZID=America/New_York:20240925T203000
DTSTAMP:20260422T185041
CREATED:20240703T203212Z
LAST-MODIFIED:20240703T203214Z
UID:10002152-1727292600-1727296200@www.foundationofhope.org
SUMMARY:Weekly PIRC Support Group – McKeesport
DESCRIPTION:Weekly PIRC Support Group (Positive Initiative to Reinforce Change)\nThe PIRC Movement is for returning citizens and their supporters to change the community by first changing themselves.\nWe meet every Wednesday from 7:30-8:30 pm.\nThis group is for men and women.\nAll are welcome and no need to RSVP.
URL:https://www.foundationofhope.org/event/weekly-pirc-support-group-mckeesport-2/2024-09-25/
LOCATION:McKeesport YMCA\, 523 Sinclair St.\, McKeesport\, PA\, 15132\, United States
CATEGORIES:Reentry
ATTACH;FMTTYPE=image/webp:https://www.foundationofhope.org/wp-content/uploads/reentry-calendar-feature.webp
END:VEVENT
BEGIN:VEVENT
DTSTART;TZID=America/New_York:20240926T180000
DTEND;TZID=America/New_York:20240926T190000
DTSTAMP:20260422T185041
CREATED:20230724T160032Z
LAST-MODIFIED:20240629T161404Z
UID:10002674-1727373600-1727377200@www.foundationofhope.org
SUMMARY:Weekly PIRC Support Group – McKees Rocks
DESCRIPTION:Weekly PIRC Support Group (Positive Initiative to Reinforce Change)\nThe PIRC Movement is for returning citizens and their supporters to change the community by first changing themselves.\nWe meet every Thursday from 6:00-7:00 pm.\nThis group is for men and women.\nAll are welcome and no need to RSVP.
URL:https://www.foundationofhope.org/event/weekly-pirc-support-group-mckees-rocks/2024-09-26/
LOCATION:C.A.S.H. Club\, 827 Broadway Avenue\, McKees Rocks\, PA\, 15136\, United States
CATEGORIES:Reentry
ATTACH;FMTTYPE=image/webp:https://www.foundationofhope.org/wp-content/uploads/reentry-calendar-feature.webp
END:VEVENT
BEGIN:VEVENT
DTSTART;TZID=America/New_York:20240927T130000
DTEND;TZID=America/New_York:20240927T140000
DTSTAMP:20260422T185041
CREATED:20240123T192213Z
LAST-MODIFIED:20240629T161233Z
UID:10004839-1727442000-1727445600@www.foundationofhope.org
SUMMARY:Weekly PIRC Support Group – Northside (Friday)
DESCRIPTION:Weekly PIRC Support Group (Positive Initiative to Reinforce Change)\nThe PIRC Movement is for returning citizens and their supporters to change the community by first changing themselves.\nWe meet every Friday from 1:00-2:00 pm.\nThis group is for men and women. All are welcome and no need to RSVP.
URL:https://www.foundationofhope.org/event/weekly-pirc-support-group-northside-friday/2024-09-27/
LOCATION:Foundation of HOPE\, 901 Pennsylvania Avenue\, Suite 3A\, Pittsburgh\, PA\, 15233\, United States
CATEGORIES:Reentry
ATTACH;FMTTYPE=image/webp:https://www.foundationofhope.org/wp-content/uploads/reentry-calendar-feature.webp
END:VEVENT
BEGIN:VEVENT
DTSTART;TZID=America/New_York:20240930T190000
DTEND;TZID=America/New_York:20240930T200000
DTSTAMP:20260422T185041
CREATED:20231213T220053Z
LAST-MODIFIED:20240703T203455Z
UID:10003722-1727722800-1727726400@www.foundationofhope.org
SUMMARY:Weekly PIRC Support Group – Sharpsburg
DESCRIPTION:Weekly PIRC Support Group (Positive Initiative to Reinforce Change)\nThe PIRC Movement is for returning citizens and their supporters to change the community by first changing themselves.\nWe meet every Wednesday from 7:00-8:00 pm.\nThis group is for men and women.\nAll are welcome and no need to RSVP.
URL:https://www.foundationofhope.org/event/weekly-pirc-support-group-sharpsburg/2024-09-30/
LOCATION:Roots of Faith\, 800 Main St.\, Sharpsburg\, PA\, 15215\, United States
CATEGORIES:Reentry
ATTACH;FMTTYPE=image/webp:https://www.foundationofhope.org/wp-content/uploads/reentry-calendar-feature.webp
END:VEVENT
BEGIN:VEVENT
DTSTART;TZID=America/New_York:20241001T190000
DTEND;TZID=America/New_York:20241001T200000
DTSTAMP:20260422T185041
CREATED:20180626T234844Z
LAST-MODIFIED:20240629T162514Z
UID:10000773-1727809200-1727812800@www.foundationofhope.org
SUMMARY:Weekly PIRC Support Group – Northside (Tuesday)
DESCRIPTION:Weekly PIRC Support Group (Positive Initiative to Reinforce Change)\nThe PIRC Movement is for returning citizens and their supporters to change the community by first changing themselves.\nWe meet every Tuesday from 7:00-8:00 pm.\nThis group is for men and women. All are welcome and no need to RSVP.
URL:https://www.foundationofhope.org/event/weekly-pirc-support-group/2024-10-01/
LOCATION:Foundation of HOPE\, 901 Pennsylvania Avenue\, Suite 3A\, Pittsburgh\, PA\, 15233\, United States
CATEGORIES:Reentry
ATTACH;FMTTYPE=image/webp:https://www.foundationofhope.org/wp-content/uploads/reentry-calendar-feature.webp
END:VEVENT
BEGIN:VEVENT
DTSTART;TZID=America/New_York:20241002T193000
DTEND;TZID=America/New_York:20241002T203000
DTSTAMP:20260422T185041
CREATED:20240703T203212Z
LAST-MODIFIED:20240703T203214Z
UID:10002153-1727897400-1727901000@www.foundationofhope.org
SUMMARY:Weekly PIRC Support Group – McKeesport
DESCRIPTION:Weekly PIRC Support Group (Positive Initiative to Reinforce Change)\nThe PIRC Movement is for returning citizens and their supporters to change the community by first changing themselves.\nWe meet every Wednesday from 7:30-8:30 pm.\nThis group is for men and women.\nAll are welcome and no need to RSVP.
URL:https://www.foundationofhope.org/event/weekly-pirc-support-group-mckeesport-2/2024-10-02/
LOCATION:McKeesport YMCA\, 523 Sinclair St.\, McKeesport\, PA\, 15132\, United States
CATEGORIES:Reentry
ATTACH;FMTTYPE=image/webp:https://www.foundationofhope.org/wp-content/uploads/reentry-calendar-feature.webp
END:VEVENT
BEGIN:VEVENT
DTSTART;TZID=America/New_York:20241003T180000
DTEND;TZID=America/New_York:20241003T190000
DTSTAMP:20260422T185041
CREATED:20230724T160032Z
LAST-MODIFIED:20240629T161404Z
UID:10002675-1727978400-1727982000@www.foundationofhope.org
SUMMARY:Weekly PIRC Support Group – McKees Rocks
DESCRIPTION:Weekly PIRC Support Group (Positive Initiative to Reinforce Change)\nThe PIRC Movement is for returning citizens and their supporters to change the community by first changing themselves.\nWe meet every Thursday from 6:00-7:00 pm.\nThis group is for men and women.\nAll are welcome and no need to RSVP.
URL:https://www.foundationofhope.org/event/weekly-pirc-support-group-mckees-rocks/2024-10-03/
LOCATION:C.A.S.H. Club\, 827 Broadway Avenue\, McKees Rocks\, PA\, 15136\, United States
CATEGORIES:Reentry
ATTACH;FMTTYPE=image/webp:https://www.foundationofhope.org/wp-content/uploads/reentry-calendar-feature.webp
END:VEVENT
BEGIN:VEVENT
DTSTART;TZID=America/New_York:20241004T130000
DTEND;TZID=America/New_York:20241004T140000
DTSTAMP:20260422T185041
CREATED:20240123T192213Z
LAST-MODIFIED:20240629T161233Z
UID:10004840-1728046800-1728050400@www.foundationofhope.org
SUMMARY:Weekly PIRC Support Group – Northside (Friday)
DESCRIPTION:Weekly PIRC Support Group (Positive Initiative to Reinforce Change)\nThe PIRC Movement is for returning citizens and their supporters to change the community by first changing themselves.\nWe meet every Friday from 1:00-2:00 pm.\nThis group is for men and women. All are welcome and no need to RSVP.
URL:https://www.foundationofhope.org/event/weekly-pirc-support-group-northside-friday/2024-10-04/
LOCATION:Foundation of HOPE\, 901 Pennsylvania Avenue\, Suite 3A\, Pittsburgh\, PA\, 15233\, United States
CATEGORIES:Reentry
ATTACH;FMTTYPE=image/webp:https://www.foundationofhope.org/wp-content/uploads/reentry-calendar-feature.webp
END:VEVENT
BEGIN:VEVENT
DTSTART;TZID=America/New_York:20241007T190000
DTEND;TZID=America/New_York:20241007T200000
DTSTAMP:20260422T185041
CREATED:20231213T220053Z
LAST-MODIFIED:20240703T203455Z
UID:10003723-1728327600-1728331200@www.foundationofhope.org
SUMMARY:Weekly PIRC Support Group – Sharpsburg
DESCRIPTION:Weekly PIRC Support Group (Positive Initiative to Reinforce Change)\nThe PIRC Movement is for returning citizens and their supporters to change the community by first changing themselves.\nWe meet every Wednesday from 7:00-8:00 pm.\nThis group is for men and women.\nAll are welcome and no need to RSVP.
URL:https://www.foundationofhope.org/event/weekly-pirc-support-group-sharpsburg/2024-10-07/
LOCATION:Roots of Faith\, 800 Main St.\, Sharpsburg\, PA\, 15215\, United States
CATEGORIES:Reentry
ATTACH;FMTTYPE=image/webp:https://www.foundationofhope.org/wp-content/uploads/reentry-calendar-feature.webp
END:VEVENT
BEGIN:VEVENT
DTSTART;TZID=America/New_York:20241008T190000
DTEND;TZID=America/New_York:20241008T200000
DTSTAMP:20260422T185041
CREATED:20180626T234844Z
LAST-MODIFIED:20240629T162514Z
UID:10000774-1728414000-1728417600@www.foundationofhope.org
SUMMARY:Weekly PIRC Support Group – Northside (Tuesday)
DESCRIPTION:Weekly PIRC Support Group (Positive Initiative to Reinforce Change)\nThe PIRC Movement is for returning citizens and their supporters to change the community by first changing themselves.\nWe meet every Tuesday from 7:00-8:00 pm.\nThis group is for men and women. All are welcome and no need to RSVP.
URL:https://www.foundationofhope.org/event/weekly-pirc-support-group/2024-10-08/
LOCATION:Foundation of HOPE\, 901 Pennsylvania Avenue\, Suite 3A\, Pittsburgh\, PA\, 15233\, United States
CATEGORIES:Reentry
ATTACH;FMTTYPE=image/webp:https://www.foundationofhope.org/wp-content/uploads/reentry-calendar-feature.webp
END:VEVENT
BEGIN:VEVENT
DTSTART;TZID=America/New_York:20241009T193000
DTEND;TZID=America/New_York:20241009T203000
DTSTAMP:20260422T185041
CREATED:20240703T203212Z
LAST-MODIFIED:20240703T203214Z
UID:10002154-1728502200-1728505800@www.foundationofhope.org
SUMMARY:Weekly PIRC Support Group – McKeesport
DESCRIPTION:Weekly PIRC Support Group (Positive Initiative to Reinforce Change)\nThe PIRC Movement is for returning citizens and their supporters to change the community by first changing themselves.\nWe meet every Wednesday from 7:30-8:30 pm.\nThis group is for men and women.\nAll are welcome and no need to RSVP.
URL:https://www.foundationofhope.org/event/weekly-pirc-support-group-mckeesport-2/2024-10-09/
LOCATION:McKeesport YMCA\, 523 Sinclair St.\, McKeesport\, PA\, 15132\, United States
CATEGORIES:Reentry
ATTACH;FMTTYPE=image/webp:https://www.foundationofhope.org/wp-content/uploads/reentry-calendar-feature.webp
END:VEVENT
BEGIN:VEVENT
DTSTART;TZID=America/New_York:20241010T180000
DTEND;TZID=America/New_York:20241010T190000
DTSTAMP:20260422T185041
CREATED:20230724T160032Z
LAST-MODIFIED:20240629T161404Z
UID:10002676-1728583200-1728586800@www.foundationofhope.org
SUMMARY:Weekly PIRC Support Group – McKees Rocks
DESCRIPTION:Weekly PIRC Support Group (Positive Initiative to Reinforce Change)\nThe PIRC Movement is for returning citizens and their supporters to change the community by first changing themselves.\nWe meet every Thursday from 6:00-7:00 pm.\nThis group is for men and women.\nAll are welcome and no need to RSVP.
URL:https://www.foundationofhope.org/event/weekly-pirc-support-group-mckees-rocks/2024-10-10/
LOCATION:C.A.S.H. Club\, 827 Broadway Avenue\, McKees Rocks\, PA\, 15136\, United States
CATEGORIES:Reentry
ATTACH;FMTTYPE=image/webp:https://www.foundationofhope.org/wp-content/uploads/reentry-calendar-feature.webp
END:VEVENT
BEGIN:VEVENT
DTSTART;TZID=America/New_York:20241011T130000
DTEND;TZID=America/New_York:20241011T140000
DTSTAMP:20260422T185041
CREATED:20240123T192213Z
LAST-MODIFIED:20240629T161233Z
UID:10004841-1728651600-1728655200@www.foundationofhope.org
SUMMARY:Weekly PIRC Support Group – Northside (Friday)
DESCRIPTION:Weekly PIRC Support Group (Positive Initiative to Reinforce Change)\nThe PIRC Movement is for returning citizens and their supporters to change the community by first changing themselves.\nWe meet every Friday from 1:00-2:00 pm.\nThis group is for men and women. All are welcome and no need to RSVP.
URL:https://www.foundationofhope.org/event/weekly-pirc-support-group-northside-friday/2024-10-11/
LOCATION:Foundation of HOPE\, 901 Pennsylvania Avenue\, Suite 3A\, Pittsburgh\, PA\, 15233\, United States
CATEGORIES:Reentry
ATTACH;FMTTYPE=image/webp:https://www.foundationofhope.org/wp-content/uploads/reentry-calendar-feature.webp
END:VEVENT
BEGIN:VEVENT
DTSTART;TZID=America/New_York:20241014T190000
DTEND;TZID=America/New_York:20241014T200000
DTSTAMP:20260422T185041
CREATED:20231213T220053Z
LAST-MODIFIED:20240703T203455Z
UID:10003724-1728932400-1728936000@www.foundationofhope.org
SUMMARY:Weekly PIRC Support Group – Sharpsburg
DESCRIPTION:Weekly PIRC Support Group (Positive Initiative to Reinforce Change)\nThe PIRC Movement is for returning citizens and their supporters to change the community by first changing themselves.\nWe meet every Wednesday from 7:00-8:00 pm.\nThis group is for men and women.\nAll are welcome and no need to RSVP.
URL:https://www.foundationofhope.org/event/weekly-pirc-support-group-sharpsburg/2024-10-14/
LOCATION:Roots of Faith\, 800 Main St.\, Sharpsburg\, PA\, 15215\, United States
CATEGORIES:Reentry
ATTACH;FMTTYPE=image/webp:https://www.foundationofhope.org/wp-content/uploads/reentry-calendar-feature.webp
END:VEVENT
BEGIN:VEVENT
DTSTART;TZID=America/New_York:20241015T190000
DTEND;TZID=America/New_York:20241015T200000
DTSTAMP:20260422T185041
CREATED:20180626T234844Z
LAST-MODIFIED:20240629T162514Z
UID:10000775-1729018800-1729022400@www.foundationofhope.org
SUMMARY:Weekly PIRC Support Group – Northside (Tuesday)
DESCRIPTION:Weekly PIRC Support Group (Positive Initiative to Reinforce Change)\nThe PIRC Movement is for returning citizens and their supporters to change the community by first changing themselves.\nWe meet every Tuesday from 7:00-8:00 pm.\nThis group is for men and women. All are welcome and no need to RSVP.
URL:https://www.foundationofhope.org/event/weekly-pirc-support-group/2024-10-15/
LOCATION:Foundation of HOPE\, 901 Pennsylvania Avenue\, Suite 3A\, Pittsburgh\, PA\, 15233\, United States
CATEGORIES:Reentry
ATTACH;FMTTYPE=image/webp:https://www.foundationofhope.org/wp-content/uploads/reentry-calendar-feature.webp
END:VEVENT
BEGIN:VEVENT
DTSTART;TZID=America/New_York:20241016T193000
DTEND;TZID=America/New_York:20241016T203000
DTSTAMP:20260422T185041
CREATED:20240703T203212Z
LAST-MODIFIED:20240703T203214Z
UID:10002155-1729107000-1729110600@www.foundationofhope.org
SUMMARY:Weekly PIRC Support Group – McKeesport
DESCRIPTION:Weekly PIRC Support Group (Positive Initiative to Reinforce Change)\nThe PIRC Movement is for returning citizens and their supporters to change the community by first changing themselves.\nWe meet every Wednesday from 7:30-8:30 pm.\nThis group is for men and women.\nAll are welcome and no need to RSVP.
URL:https://www.foundationofhope.org/event/weekly-pirc-support-group-mckeesport-2/2024-10-16/
LOCATION:McKeesport YMCA\, 523 Sinclair St.\, McKeesport\, PA\, 15132\, United States
CATEGORIES:Reentry
ATTACH;FMTTYPE=image/webp:https://www.foundationofhope.org/wp-content/uploads/reentry-calendar-feature.webp
END:VEVENT
BEGIN:VEVENT
DTSTART;TZID=America/New_York:20241017T180000
DTEND;TZID=America/New_York:20241017T190000
DTSTAMP:20260422T185041
CREATED:20230724T160032Z
LAST-MODIFIED:20240629T161404Z
UID:10002677-1729188000-1729191600@www.foundationofhope.org
SUMMARY:Weekly PIRC Support Group – McKees Rocks
DESCRIPTION:Weekly PIRC Support Group (Positive Initiative to Reinforce Change)\nThe PIRC Movement is for returning citizens and their supporters to change the community by first changing themselves.\nWe meet every Thursday from 6:00-7:00 pm.\nThis group is for men and women.\nAll are welcome and no need to RSVP.
URL:https://www.foundationofhope.org/event/weekly-pirc-support-group-mckees-rocks/2024-10-17/
LOCATION:C.A.S.H. Club\, 827 Broadway Avenue\, McKees Rocks\, PA\, 15136\, United States
CATEGORIES:Reentry
ATTACH;FMTTYPE=image/webp:https://www.foundationofhope.org/wp-content/uploads/reentry-calendar-feature.webp
END:VEVENT
BEGIN:VEVENT
DTSTART;TZID=America/New_York:20241018T130000
DTEND;TZID=America/New_York:20241018T140000
DTSTAMP:20260422T185041
CREATED:20240123T192213Z
LAST-MODIFIED:20240629T161233Z
UID:10004842-1729256400-1729260000@www.foundationofhope.org
SUMMARY:Weekly PIRC Support Group – Northside (Friday)
DESCRIPTION:Weekly PIRC Support Group (Positive Initiative to Reinforce Change)\nThe PIRC Movement is for returning citizens and their supporters to change the community by first changing themselves.\nWe meet every Friday from 1:00-2:00 pm.\nThis group is for men and women. All are welcome and no need to RSVP.
URL:https://www.foundationofhope.org/event/weekly-pirc-support-group-northside-friday/2024-10-18/
LOCATION:Foundation of HOPE\, 901 Pennsylvania Avenue\, Suite 3A\, Pittsburgh\, PA\, 15233\, United States
CATEGORIES:Reentry
ATTACH;FMTTYPE=image/webp:https://www.foundationofhope.org/wp-content/uploads/reentry-calendar-feature.webp
END:VEVENT
BEGIN:VEVENT
DTSTART;TZID=America/New_York:20241021T190000
DTEND;TZID=America/New_York:20241021T200000
DTSTAMP:20260422T185041
CREATED:20231213T220053Z
LAST-MODIFIED:20240703T203455Z
UID:10003725-1729537200-1729540800@www.foundationofhope.org
SUMMARY:Weekly PIRC Support Group – Sharpsburg
DESCRIPTION:Weekly PIRC Support Group (Positive Initiative to Reinforce Change)\nThe PIRC Movement is for returning citizens and their supporters to change the community by first changing themselves.\nWe meet every Wednesday from 7:00-8:00 pm.\nThis group is for men and women.\nAll are welcome and no need to RSVP.
URL:https://www.foundationofhope.org/event/weekly-pirc-support-group-sharpsburg/2024-10-21/
LOCATION:Roots of Faith\, 800 Main St.\, Sharpsburg\, PA\, 15215\, United States
CATEGORIES:Reentry
ATTACH;FMTTYPE=image/webp:https://www.foundationofhope.org/wp-content/uploads/reentry-calendar-feature.webp
END:VEVENT
BEGIN:VEVENT
DTSTART;TZID=America/New_York:20241022T190000
DTEND;TZID=America/New_York:20241022T200000
DTSTAMP:20260422T185041
CREATED:20180626T234844Z
LAST-MODIFIED:20240629T162514Z
UID:10000776-1729623600-1729627200@www.foundationofhope.org
SUMMARY:Weekly PIRC Support Group – Northside (Tuesday)
DESCRIPTION:Weekly PIRC Support Group (Positive Initiative to Reinforce Change)\nThe PIRC Movement is for returning citizens and their supporters to change the community by first changing themselves.\nWe meet every Tuesday from 7:00-8:00 pm.\nThis group is for men and women. All are welcome and no need to RSVP.
URL:https://www.foundationofhope.org/event/weekly-pirc-support-group/2024-10-22/
LOCATION:Foundation of HOPE\, 901 Pennsylvania Avenue\, Suite 3A\, Pittsburgh\, PA\, 15233\, United States
CATEGORIES:Reentry
ATTACH;FMTTYPE=image/webp:https://www.foundationofhope.org/wp-content/uploads/reentry-calendar-feature.webp
END:VEVENT
BEGIN:VEVENT
DTSTART;TZID=America/New_York:20241023T193000
DTEND;TZID=America/New_York:20241023T203000
DTSTAMP:20260422T185041
CREATED:20240703T203212Z
LAST-MODIFIED:20240703T203214Z
UID:10002156-1729711800-1729715400@www.foundationofhope.org
SUMMARY:Weekly PIRC Support Group – McKeesport
DESCRIPTION:Weekly PIRC Support Group (Positive Initiative to Reinforce Change)\nThe PIRC Movement is for returning citizens and their supporters to change the community by first changing themselves.\nWe meet every Wednesday from 7:30-8:30 pm.\nThis group is for men and women.\nAll are welcome and no need to RSVP.
URL:https://www.foundationofhope.org/event/weekly-pirc-support-group-mckeesport-2/2024-10-23/
LOCATION:McKeesport YMCA\, 523 Sinclair St.\, McKeesport\, PA\, 15132\, United States
CATEGORIES:Reentry
ATTACH;FMTTYPE=image/webp:https://www.foundationofhope.org/wp-content/uploads/reentry-calendar-feature.webp
END:VEVENT
BEGIN:VEVENT
DTSTART;TZID=America/New_York:20241024T180000
DTEND;TZID=America/New_York:20241024T190000
DTSTAMP:20260422T185041
CREATED:20230724T160032Z
LAST-MODIFIED:20240629T161404Z
UID:10002678-1729792800-1729796400@www.foundationofhope.org
SUMMARY:Weekly PIRC Support Group – McKees Rocks
DESCRIPTION:Weekly PIRC Support Group (Positive Initiative to Reinforce Change)\nThe PIRC Movement is for returning citizens and their supporters to change the community by first changing themselves.\nWe meet every Thursday from 6:00-7:00 pm.\nThis group is for men and women.\nAll are welcome and no need to RSVP.
URL:https://www.foundationofhope.org/event/weekly-pirc-support-group-mckees-rocks/2024-10-24/
LOCATION:C.A.S.H. Club\, 827 Broadway Avenue\, McKees Rocks\, PA\, 15136\, United States
CATEGORIES:Reentry
ATTACH;FMTTYPE=image/webp:https://www.foundationofhope.org/wp-content/uploads/reentry-calendar-feature.webp
END:VEVENT
END:VCALENDAR