BEGIN:VCALENDAR
VERSION:2.0
PRODID:-//Foundation of Hope - ECPv6.15.18//NONSGML v1.0//EN
CALSCALE:GREGORIAN
METHOD:PUBLISH
X-WR-CALNAME:Foundation of Hope
X-ORIGINAL-URL:https://www.foundationofhope.org
X-WR-CALDESC:Events for Foundation of Hope
REFRESH-INTERVAL;VALUE=DURATION:PT1H
X-Robots-Tag:noindex
X-PUBLISHED-TTL:PT1H
BEGIN:VTIMEZONE
TZID:America/New_York
BEGIN:DAYLIGHT
TZOFFSETFROM:-0500
TZOFFSETTO:-0400
TZNAME:EDT
DTSTART:20240310T070000
END:DAYLIGHT
BEGIN:STANDARD
TZOFFSETFROM:-0400
TZOFFSETTO:-0500
TZNAME:EST
DTSTART:20241103T060000
END:STANDARD
BEGIN:DAYLIGHT
TZOFFSETFROM:-0500
TZOFFSETTO:-0400
TZNAME:EDT
DTSTART:20250309T070000
END:DAYLIGHT
BEGIN:STANDARD
TZOFFSETFROM:-0400
TZOFFSETTO:-0500
TZNAME:EST
DTSTART:20251102T060000
END:STANDARD
BEGIN:DAYLIGHT
TZOFFSETFROM:-0500
TZOFFSETTO:-0400
TZNAME:EDT
DTSTART:20260308T070000
END:DAYLIGHT
BEGIN:STANDARD
TZOFFSETFROM:-0400
TZOFFSETTO:-0500
TZNAME:EST
DTSTART:20261101T060000
END:STANDARD
END:VTIMEZONE
BEGIN:VEVENT
DTSTART;TZID=America/New_York:20251112T190000
DTEND;TZID=America/New_York:20251112T200000
DTSTAMP:20260422T183458
CREATED:20250807T212617Z
LAST-MODIFIED:20250807T212618Z
UID:10005346-1762974000-1762977600@www.foundationofhope.org
SUMMARY:Weekly PIRC Support Group – McKeesport
DESCRIPTION:Weekly PIRC Support Group (Positive Initiative to Reinforce Change)\nThe PIRC Movement is for returning citizens and their supporters to change the community by first changing themselves.\nWe meet every Wednesday from 7:00-8:00 pm.\nThis group is for men and women.\nAll are welcome and no need to RSVP.
URL:https://www.foundationofhope.org/event/weekly-pirc-support-group-mckeesport-2-2/2025-11-12/
LOCATION:McKeesport YMCA\, 523 Sinclair St.\, McKeesport\, PA\, 15132\, United States
CATEGORIES:Reentry
ATTACH;FMTTYPE=image/webp:https://www.foundationofhope.org/wp-content/uploads/reentry-calendar-feature.webp
END:VEVENT
BEGIN:VEVENT
DTSTART;TZID=America/New_York:20251111T190000
DTEND;TZID=America/New_York:20251111T200000
DTSTAMP:20260422T183458
CREATED:20180626T234844Z
LAST-MODIFIED:20240629T162514Z
UID:10000905-1762887600-1762891200@www.foundationofhope.org
SUMMARY:Weekly PIRC Support Group – Northside (Tuesday)
DESCRIPTION:Weekly PIRC Support Group (Positive Initiative to Reinforce Change)\nThe PIRC Movement is for returning citizens and their supporters to change the community by first changing themselves.\nWe meet every Tuesday from 7:00-8:00 pm.\nThis group is for men and women. All are welcome and no need to RSVP.
URL:https://www.foundationofhope.org/event/weekly-pirc-support-group/2025-11-11/
LOCATION:Foundation of HOPE\, 901 Pennsylvania Avenue\, Suite 3A\, Pittsburgh\, PA\, 15233\, United States
CATEGORIES:Reentry
ATTACH;FMTTYPE=image/webp:https://www.foundationofhope.org/wp-content/uploads/reentry-calendar-feature.webp
END:VEVENT
BEGIN:VEVENT
DTSTART;TZID=America/New_York:20251110T190000
DTEND;TZID=America/New_York:20251110T200000
DTSTAMP:20260422T183458
CREATED:20231213T220053Z
LAST-MODIFIED:20240703T203455Z
UID:10003780-1762801200-1762804800@www.foundationofhope.org
SUMMARY:Weekly PIRC Support Group – Sharpsburg
DESCRIPTION:Weekly PIRC Support Group (Positive Initiative to Reinforce Change)\nThe PIRC Movement is for returning citizens and their supporters to change the community by first changing themselves.\nWe meet every Wednesday from 7:00-8:00 pm.\nThis group is for men and women.\nAll are welcome and no need to RSVP.
URL:https://www.foundationofhope.org/event/weekly-pirc-support-group-sharpsburg/2025-11-10/
LOCATION:Roots of Faith\, 800 Main St.\, Sharpsburg\, PA\, 15215\, United States
CATEGORIES:Reentry
ATTACH;FMTTYPE=image/webp:https://www.foundationofhope.org/wp-content/uploads/reentry-calendar-feature.webp
END:VEVENT
BEGIN:VEVENT
DTSTART;TZID=America/New_York:20251107T130000
DTEND;TZID=America/New_York:20251107T140000
DTSTAMP:20260422T183458
CREATED:20240123T192213Z
LAST-MODIFIED:20240629T161233Z
UID:10004897-1762520400-1762524000@www.foundationofhope.org
SUMMARY:Weekly PIRC Support Group – Northside (Friday)
DESCRIPTION:Weekly PIRC Support Group (Positive Initiative to Reinforce Change)\nThe PIRC Movement is for returning citizens and their supporters to change the community by first changing themselves.\nWe meet every Friday from 1:00-2:00 pm.\nThis group is for men and women. All are welcome and no need to RSVP.
URL:https://www.foundationofhope.org/event/weekly-pirc-support-group-northside-friday/2025-11-07/
LOCATION:Foundation of HOPE\, 901 Pennsylvania Avenue\, Suite 3A\, Pittsburgh\, PA\, 15233\, United States
CATEGORIES:Reentry
ATTACH;FMTTYPE=image/webp:https://www.foundationofhope.org/wp-content/uploads/reentry-calendar-feature.webp
END:VEVENT
BEGIN:VEVENT
DTSTART;TZID=America/New_York:20251106T180000
DTEND;TZID=America/New_York:20251106T190000
DTSTAMP:20260422T183458
CREATED:20230724T160032Z
LAST-MODIFIED:20240629T161404Z
UID:10002732-1762452000-1762455600@www.foundationofhope.org
SUMMARY:Weekly PIRC Support Group – McKees Rocks
DESCRIPTION:Weekly PIRC Support Group (Positive Initiative to Reinforce Change)\nThe PIRC Movement is for returning citizens and their supporters to change the community by first changing themselves.\nWe meet every Thursday from 6:00-7:00 pm.\nThis group is for men and women.\nAll are welcome and no need to RSVP.
URL:https://www.foundationofhope.org/event/weekly-pirc-support-group-mckees-rocks/2025-11-06/
LOCATION:C.A.S.H. Club\, 827 Broadway Avenue\, McKees Rocks\, PA\, 15136\, United States
CATEGORIES:Reentry
ATTACH;FMTTYPE=image/webp:https://www.foundationofhope.org/wp-content/uploads/reentry-calendar-feature.webp
END:VEVENT
BEGIN:VEVENT
DTSTART;TZID=America/New_York:20251105T190000
DTEND;TZID=America/New_York:20251105T200000
DTSTAMP:20260422T183458
CREATED:20250807T212617Z
LAST-MODIFIED:20250807T212618Z
UID:10005345-1762369200-1762372800@www.foundationofhope.org
SUMMARY:Weekly PIRC Support Group – McKeesport
DESCRIPTION:Weekly PIRC Support Group (Positive Initiative to Reinforce Change)\nThe PIRC Movement is for returning citizens and their supporters to change the community by first changing themselves.\nWe meet every Wednesday from 7:00-8:00 pm.\nThis group is for men and women.\nAll are welcome and no need to RSVP.
URL:https://www.foundationofhope.org/event/weekly-pirc-support-group-mckeesport-2-2/2025-11-05/
LOCATION:McKeesport YMCA\, 523 Sinclair St.\, McKeesport\, PA\, 15132\, United States
CATEGORIES:Reentry
ATTACH;FMTTYPE=image/webp:https://www.foundationofhope.org/wp-content/uploads/reentry-calendar-feature.webp
END:VEVENT
BEGIN:VEVENT
DTSTART;TZID=America/New_York:20251104T190000
DTEND;TZID=America/New_York:20251104T200000
DTSTAMP:20260422T183458
CREATED:20180626T234844Z
LAST-MODIFIED:20240629T162514Z
UID:10000904-1762282800-1762286400@www.foundationofhope.org
SUMMARY:Weekly PIRC Support Group – Northside (Tuesday)
DESCRIPTION:Weekly PIRC Support Group (Positive Initiative to Reinforce Change)\nThe PIRC Movement is for returning citizens and their supporters to change the community by first changing themselves.\nWe meet every Tuesday from 7:00-8:00 pm.\nThis group is for men and women. All are welcome and no need to RSVP.
URL:https://www.foundationofhope.org/event/weekly-pirc-support-group/2025-11-04/
LOCATION:Foundation of HOPE\, 901 Pennsylvania Avenue\, Suite 3A\, Pittsburgh\, PA\, 15233\, United States
CATEGORIES:Reentry
ATTACH;FMTTYPE=image/webp:https://www.foundationofhope.org/wp-content/uploads/reentry-calendar-feature.webp
END:VEVENT
BEGIN:VEVENT
DTSTART;TZID=America/New_York:20251103T190000
DTEND;TZID=America/New_York:20251103T200000
DTSTAMP:20260422T183458
CREATED:20231213T220053Z
LAST-MODIFIED:20240703T203455Z
UID:10003779-1762196400-1762200000@www.foundationofhope.org
SUMMARY:Weekly PIRC Support Group – Sharpsburg
DESCRIPTION:Weekly PIRC Support Group (Positive Initiative to Reinforce Change)\nThe PIRC Movement is for returning citizens and their supporters to change the community by first changing themselves.\nWe meet every Wednesday from 7:00-8:00 pm.\nThis group is for men and women.\nAll are welcome and no need to RSVP.
URL:https://www.foundationofhope.org/event/weekly-pirc-support-group-sharpsburg/2025-11-03/
LOCATION:Roots of Faith\, 800 Main St.\, Sharpsburg\, PA\, 15215\, United States
CATEGORIES:Reentry
ATTACH;FMTTYPE=image/webp:https://www.foundationofhope.org/wp-content/uploads/reentry-calendar-feature.webp
END:VEVENT
BEGIN:VEVENT
DTSTART;TZID=America/New_York:20251031T130000
DTEND;TZID=America/New_York:20251031T140000
DTSTAMP:20260422T183458
CREATED:20240123T192213Z
LAST-MODIFIED:20240629T161233Z
UID:10004896-1761915600-1761919200@www.foundationofhope.org
SUMMARY:Weekly PIRC Support Group – Northside (Friday)
DESCRIPTION:Weekly PIRC Support Group (Positive Initiative to Reinforce Change)\nThe PIRC Movement is for returning citizens and their supporters to change the community by first changing themselves.\nWe meet every Friday from 1:00-2:00 pm.\nThis group is for men and women. All are welcome and no need to RSVP.
URL:https://www.foundationofhope.org/event/weekly-pirc-support-group-northside-friday/2025-10-31/
LOCATION:Foundation of HOPE\, 901 Pennsylvania Avenue\, Suite 3A\, Pittsburgh\, PA\, 15233\, United States
CATEGORIES:Reentry
ATTACH;FMTTYPE=image/webp:https://www.foundationofhope.org/wp-content/uploads/reentry-calendar-feature.webp
END:VEVENT
BEGIN:VEVENT
DTSTART;TZID=America/New_York:20251030T180000
DTEND;TZID=America/New_York:20251030T190000
DTSTAMP:20260422T183458
CREATED:20230724T160032Z
LAST-MODIFIED:20240629T161404Z
UID:10002731-1761847200-1761850800@www.foundationofhope.org
SUMMARY:Weekly PIRC Support Group – McKees Rocks
DESCRIPTION:Weekly PIRC Support Group (Positive Initiative to Reinforce Change)\nThe PIRC Movement is for returning citizens and their supporters to change the community by first changing themselves.\nWe meet every Thursday from 6:00-7:00 pm.\nThis group is for men and women.\nAll are welcome and no need to RSVP.
URL:https://www.foundationofhope.org/event/weekly-pirc-support-group-mckees-rocks/2025-10-30/
LOCATION:C.A.S.H. Club\, 827 Broadway Avenue\, McKees Rocks\, PA\, 15136\, United States
CATEGORIES:Reentry
ATTACH;FMTTYPE=image/webp:https://www.foundationofhope.org/wp-content/uploads/reentry-calendar-feature.webp
END:VEVENT
BEGIN:VEVENT
DTSTART;TZID=America/New_York:20251029T190000
DTEND;TZID=America/New_York:20251029T200000
DTSTAMP:20260422T183458
CREATED:20250807T212617Z
LAST-MODIFIED:20250807T212618Z
UID:10005344-1761764400-1761768000@www.foundationofhope.org
SUMMARY:Weekly PIRC Support Group – McKeesport
DESCRIPTION:Weekly PIRC Support Group (Positive Initiative to Reinforce Change)\nThe PIRC Movement is for returning citizens and their supporters to change the community by first changing themselves.\nWe meet every Wednesday from 7:00-8:00 pm.\nThis group is for men and women.\nAll are welcome and no need to RSVP.
URL:https://www.foundationofhope.org/event/weekly-pirc-support-group-mckeesport-2-2/2025-10-29/
LOCATION:McKeesport YMCA\, 523 Sinclair St.\, McKeesport\, PA\, 15132\, United States
CATEGORIES:Reentry
ATTACH;FMTTYPE=image/webp:https://www.foundationofhope.org/wp-content/uploads/reentry-calendar-feature.webp
END:VEVENT
BEGIN:VEVENT
DTSTART;TZID=America/New_York:20251028T190000
DTEND;TZID=America/New_York:20251028T200000
DTSTAMP:20260422T183458
CREATED:20180626T234844Z
LAST-MODIFIED:20240629T162514Z
UID:10000903-1761678000-1761681600@www.foundationofhope.org
SUMMARY:Weekly PIRC Support Group – Northside (Tuesday)
DESCRIPTION:Weekly PIRC Support Group (Positive Initiative to Reinforce Change)\nThe PIRC Movement is for returning citizens and their supporters to change the community by first changing themselves.\nWe meet every Tuesday from 7:00-8:00 pm.\nThis group is for men and women. All are welcome and no need to RSVP.
URL:https://www.foundationofhope.org/event/weekly-pirc-support-group/2025-10-28/
LOCATION:Foundation of HOPE\, 901 Pennsylvania Avenue\, Suite 3A\, Pittsburgh\, PA\, 15233\, United States
CATEGORIES:Reentry
ATTACH;FMTTYPE=image/webp:https://www.foundationofhope.org/wp-content/uploads/reentry-calendar-feature.webp
END:VEVENT
BEGIN:VEVENT
DTSTART;TZID=America/New_York:20251027T190000
DTEND;TZID=America/New_York:20251027T200000
DTSTAMP:20260422T183458
CREATED:20231213T220053Z
LAST-MODIFIED:20240703T203455Z
UID:10003778-1761591600-1761595200@www.foundationofhope.org
SUMMARY:Weekly PIRC Support Group – Sharpsburg
DESCRIPTION:Weekly PIRC Support Group (Positive Initiative to Reinforce Change)\nThe PIRC Movement is for returning citizens and their supporters to change the community by first changing themselves.\nWe meet every Wednesday from 7:00-8:00 pm.\nThis group is for men and women.\nAll are welcome and no need to RSVP.
URL:https://www.foundationofhope.org/event/weekly-pirc-support-group-sharpsburg/2025-10-27/
LOCATION:Roots of Faith\, 800 Main St.\, Sharpsburg\, PA\, 15215\, United States
CATEGORIES:Reentry
ATTACH;FMTTYPE=image/webp:https://www.foundationofhope.org/wp-content/uploads/reentry-calendar-feature.webp
END:VEVENT
BEGIN:VEVENT
DTSTART;TZID=America/New_York:20251024T130000
DTEND;TZID=America/New_York:20251024T140000
DTSTAMP:20260422T183458
CREATED:20240123T192213Z
LAST-MODIFIED:20240629T161233Z
UID:10004895-1761310800-1761314400@www.foundationofhope.org
SUMMARY:Weekly PIRC Support Group – Northside (Friday)
DESCRIPTION:Weekly PIRC Support Group (Positive Initiative to Reinforce Change)\nThe PIRC Movement is for returning citizens and their supporters to change the community by first changing themselves.\nWe meet every Friday from 1:00-2:00 pm.\nThis group is for men and women. All are welcome and no need to RSVP.
URL:https://www.foundationofhope.org/event/weekly-pirc-support-group-northside-friday/2025-10-24/
LOCATION:Foundation of HOPE\, 901 Pennsylvania Avenue\, Suite 3A\, Pittsburgh\, PA\, 15233\, United States
CATEGORIES:Reentry
ATTACH;FMTTYPE=image/webp:https://www.foundationofhope.org/wp-content/uploads/reentry-calendar-feature.webp
END:VEVENT
BEGIN:VEVENT
DTSTART;TZID=America/New_York:20251023T180000
DTEND;TZID=America/New_York:20251023T190000
DTSTAMP:20260422T183458
CREATED:20230724T160032Z
LAST-MODIFIED:20240629T161404Z
UID:10002730-1761242400-1761246000@www.foundationofhope.org
SUMMARY:Weekly PIRC Support Group – McKees Rocks
DESCRIPTION:Weekly PIRC Support Group (Positive Initiative to Reinforce Change)\nThe PIRC Movement is for returning citizens and their supporters to change the community by first changing themselves.\nWe meet every Thursday from 6:00-7:00 pm.\nThis group is for men and women.\nAll are welcome and no need to RSVP.
URL:https://www.foundationofhope.org/event/weekly-pirc-support-group-mckees-rocks/2025-10-23/
LOCATION:C.A.S.H. Club\, 827 Broadway Avenue\, McKees Rocks\, PA\, 15136\, United States
CATEGORIES:Reentry
ATTACH;FMTTYPE=image/webp:https://www.foundationofhope.org/wp-content/uploads/reentry-calendar-feature.webp
END:VEVENT
BEGIN:VEVENT
DTSTART;TZID=America/New_York:20251022T190000
DTEND;TZID=America/New_York:20251022T200000
DTSTAMP:20260422T183458
CREATED:20250807T212617Z
LAST-MODIFIED:20250807T212618Z
UID:10005343-1761159600-1761163200@www.foundationofhope.org
SUMMARY:Weekly PIRC Support Group – McKeesport
DESCRIPTION:Weekly PIRC Support Group (Positive Initiative to Reinforce Change)\nThe PIRC Movement is for returning citizens and their supporters to change the community by first changing themselves.\nWe meet every Wednesday from 7:00-8:00 pm.\nThis group is for men and women.\nAll are welcome and no need to RSVP.
URL:https://www.foundationofhope.org/event/weekly-pirc-support-group-mckeesport-2-2/2025-10-22/
LOCATION:McKeesport YMCA\, 523 Sinclair St.\, McKeesport\, PA\, 15132\, United States
CATEGORIES:Reentry
ATTACH;FMTTYPE=image/webp:https://www.foundationofhope.org/wp-content/uploads/reentry-calendar-feature.webp
END:VEVENT
BEGIN:VEVENT
DTSTART;TZID=America/New_York:20251021T190000
DTEND;TZID=America/New_York:20251021T200000
DTSTAMP:20260422T183458
CREATED:20180626T234844Z
LAST-MODIFIED:20240629T162514Z
UID:10000902-1761073200-1761076800@www.foundationofhope.org
SUMMARY:Weekly PIRC Support Group – Northside (Tuesday)
DESCRIPTION:Weekly PIRC Support Group (Positive Initiative to Reinforce Change)\nThe PIRC Movement is for returning citizens and their supporters to change the community by first changing themselves.\nWe meet every Tuesday from 7:00-8:00 pm.\nThis group is for men and women. All are welcome and no need to RSVP.
URL:https://www.foundationofhope.org/event/weekly-pirc-support-group/2025-10-21/
LOCATION:Foundation of HOPE\, 901 Pennsylvania Avenue\, Suite 3A\, Pittsburgh\, PA\, 15233\, United States
CATEGORIES:Reentry
ATTACH;FMTTYPE=image/webp:https://www.foundationofhope.org/wp-content/uploads/reentry-calendar-feature.webp
END:VEVENT
BEGIN:VEVENT
DTSTART;TZID=America/New_York:20251020T190000
DTEND;TZID=America/New_York:20251020T200000
DTSTAMP:20260422T183458
CREATED:20231213T220053Z
LAST-MODIFIED:20240703T203455Z
UID:10003777-1760986800-1760990400@www.foundationofhope.org
SUMMARY:Weekly PIRC Support Group – Sharpsburg
DESCRIPTION:Weekly PIRC Support Group (Positive Initiative to Reinforce Change)\nThe PIRC Movement is for returning citizens and their supporters to change the community by first changing themselves.\nWe meet every Wednesday from 7:00-8:00 pm.\nThis group is for men and women.\nAll are welcome and no need to RSVP.
URL:https://www.foundationofhope.org/event/weekly-pirc-support-group-sharpsburg/2025-10-20/
LOCATION:Roots of Faith\, 800 Main St.\, Sharpsburg\, PA\, 15215\, United States
CATEGORIES:Reentry
ATTACH;FMTTYPE=image/webp:https://www.foundationofhope.org/wp-content/uploads/reentry-calendar-feature.webp
END:VEVENT
BEGIN:VEVENT
DTSTART;TZID=America/New_York:20251017T130000
DTEND;TZID=America/New_York:20251017T140000
DTSTAMP:20260422T183458
CREATED:20240123T192213Z
LAST-MODIFIED:20240629T161233Z
UID:10004894-1760706000-1760709600@www.foundationofhope.org
SUMMARY:Weekly PIRC Support Group – Northside (Friday)
DESCRIPTION:Weekly PIRC Support Group (Positive Initiative to Reinforce Change)\nThe PIRC Movement is for returning citizens and their supporters to change the community by first changing themselves.\nWe meet every Friday from 1:00-2:00 pm.\nThis group is for men and women. All are welcome and no need to RSVP.
URL:https://www.foundationofhope.org/event/weekly-pirc-support-group-northside-friday/2025-10-17/
LOCATION:Foundation of HOPE\, 901 Pennsylvania Avenue\, Suite 3A\, Pittsburgh\, PA\, 15233\, United States
CATEGORIES:Reentry
ATTACH;FMTTYPE=image/webp:https://www.foundationofhope.org/wp-content/uploads/reentry-calendar-feature.webp
END:VEVENT
BEGIN:VEVENT
DTSTART;TZID=America/New_York:20251016T180000
DTEND;TZID=America/New_York:20251016T190000
DTSTAMP:20260422T183458
CREATED:20230724T160032Z
LAST-MODIFIED:20240629T161404Z
UID:10002729-1760637600-1760641200@www.foundationofhope.org
SUMMARY:Weekly PIRC Support Group – McKees Rocks
DESCRIPTION:Weekly PIRC Support Group (Positive Initiative to Reinforce Change)\nThe PIRC Movement is for returning citizens and their supporters to change the community by first changing themselves.\nWe meet every Thursday from 6:00-7:00 pm.\nThis group is for men and women.\nAll are welcome and no need to RSVP.
URL:https://www.foundationofhope.org/event/weekly-pirc-support-group-mckees-rocks/2025-10-16/
LOCATION:C.A.S.H. Club\, 827 Broadway Avenue\, McKees Rocks\, PA\, 15136\, United States
CATEGORIES:Reentry
ATTACH;FMTTYPE=image/webp:https://www.foundationofhope.org/wp-content/uploads/reentry-calendar-feature.webp
END:VEVENT
BEGIN:VEVENT
DTSTART;TZID=America/New_York:20251015T190000
DTEND;TZID=America/New_York:20251015T200000
DTSTAMP:20260422T183458
CREATED:20250807T212617Z
LAST-MODIFIED:20250807T212618Z
UID:10005342-1760554800-1760558400@www.foundationofhope.org
SUMMARY:Weekly PIRC Support Group – McKeesport
DESCRIPTION:Weekly PIRC Support Group (Positive Initiative to Reinforce Change)\nThe PIRC Movement is for returning citizens and their supporters to change the community by first changing themselves.\nWe meet every Wednesday from 7:00-8:00 pm.\nThis group is for men and women.\nAll are welcome and no need to RSVP.
URL:https://www.foundationofhope.org/event/weekly-pirc-support-group-mckeesport-2-2/2025-10-15/
LOCATION:McKeesport YMCA\, 523 Sinclair St.\, McKeesport\, PA\, 15132\, United States
CATEGORIES:Reentry
ATTACH;FMTTYPE=image/webp:https://www.foundationofhope.org/wp-content/uploads/reentry-calendar-feature.webp
END:VEVENT
BEGIN:VEVENT
DTSTART;TZID=America/New_York:20251014T190000
DTEND;TZID=America/New_York:20251014T200000
DTSTAMP:20260422T183458
CREATED:20180626T234844Z
LAST-MODIFIED:20240629T162514Z
UID:10000901-1760468400-1760472000@www.foundationofhope.org
SUMMARY:Weekly PIRC Support Group – Northside (Tuesday)
DESCRIPTION:Weekly PIRC Support Group (Positive Initiative to Reinforce Change)\nThe PIRC Movement is for returning citizens and their supporters to change the community by first changing themselves.\nWe meet every Tuesday from 7:00-8:00 pm.\nThis group is for men and women. All are welcome and no need to RSVP.
URL:https://www.foundationofhope.org/event/weekly-pirc-support-group/2025-10-14/
LOCATION:Foundation of HOPE\, 901 Pennsylvania Avenue\, Suite 3A\, Pittsburgh\, PA\, 15233\, United States
CATEGORIES:Reentry
ATTACH;FMTTYPE=image/webp:https://www.foundationofhope.org/wp-content/uploads/reentry-calendar-feature.webp
END:VEVENT
BEGIN:VEVENT
DTSTART;TZID=America/New_York:20251013T190000
DTEND;TZID=America/New_York:20251013T200000
DTSTAMP:20260422T183458
CREATED:20231213T220053Z
LAST-MODIFIED:20240703T203455Z
UID:10003776-1760382000-1760385600@www.foundationofhope.org
SUMMARY:Weekly PIRC Support Group – Sharpsburg
DESCRIPTION:Weekly PIRC Support Group (Positive Initiative to Reinforce Change)\nThe PIRC Movement is for returning citizens and their supporters to change the community by first changing themselves.\nWe meet every Wednesday from 7:00-8:00 pm.\nThis group is for men and women.\nAll are welcome and no need to RSVP.
URL:https://www.foundationofhope.org/event/weekly-pirc-support-group-sharpsburg/2025-10-13/
LOCATION:Roots of Faith\, 800 Main St.\, Sharpsburg\, PA\, 15215\, United States
CATEGORIES:Reentry
ATTACH;FMTTYPE=image/webp:https://www.foundationofhope.org/wp-content/uploads/reentry-calendar-feature.webp
END:VEVENT
BEGIN:VEVENT
DTSTART;TZID=America/New_York:20251010T130000
DTEND;TZID=America/New_York:20251010T140000
DTSTAMP:20260422T183458
CREATED:20240123T192213Z
LAST-MODIFIED:20240629T161233Z
UID:10004893-1760101200-1760104800@www.foundationofhope.org
SUMMARY:Weekly PIRC Support Group – Northside (Friday)
DESCRIPTION:Weekly PIRC Support Group (Positive Initiative to Reinforce Change)\nThe PIRC Movement is for returning citizens and their supporters to change the community by first changing themselves.\nWe meet every Friday from 1:00-2:00 pm.\nThis group is for men and women. All are welcome and no need to RSVP.
URL:https://www.foundationofhope.org/event/weekly-pirc-support-group-northside-friday/2025-10-10/
LOCATION:Foundation of HOPE\, 901 Pennsylvania Avenue\, Suite 3A\, Pittsburgh\, PA\, 15233\, United States
CATEGORIES:Reentry
ATTACH;FMTTYPE=image/webp:https://www.foundationofhope.org/wp-content/uploads/reentry-calendar-feature.webp
END:VEVENT
BEGIN:VEVENT
DTSTART;TZID=America/New_York:20251009T180000
DTEND;TZID=America/New_York:20251009T190000
DTSTAMP:20260422T183458
CREATED:20230724T160032Z
LAST-MODIFIED:20240629T161404Z
UID:10002728-1760032800-1760036400@www.foundationofhope.org
SUMMARY:Weekly PIRC Support Group – McKees Rocks
DESCRIPTION:Weekly PIRC Support Group (Positive Initiative to Reinforce Change)\nThe PIRC Movement is for returning citizens and their supporters to change the community by first changing themselves.\nWe meet every Thursday from 6:00-7:00 pm.\nThis group is for men and women.\nAll are welcome and no need to RSVP.
URL:https://www.foundationofhope.org/event/weekly-pirc-support-group-mckees-rocks/2025-10-09/
LOCATION:C.A.S.H. Club\, 827 Broadway Avenue\, McKees Rocks\, PA\, 15136\, United States
CATEGORIES:Reentry
ATTACH;FMTTYPE=image/webp:https://www.foundationofhope.org/wp-content/uploads/reentry-calendar-feature.webp
END:VEVENT
BEGIN:VEVENT
DTSTART;TZID=America/New_York:20251008T190000
DTEND;TZID=America/New_York:20251008T200000
DTSTAMP:20260422T183458
CREATED:20250807T212617Z
LAST-MODIFIED:20250807T212618Z
UID:10005341-1759950000-1759953600@www.foundationofhope.org
SUMMARY:Weekly PIRC Support Group – McKeesport
DESCRIPTION:Weekly PIRC Support Group (Positive Initiative to Reinforce Change)\nThe PIRC Movement is for returning citizens and their supporters to change the community by first changing themselves.\nWe meet every Wednesday from 7:00-8:00 pm.\nThis group is for men and women.\nAll are welcome and no need to RSVP.
URL:https://www.foundationofhope.org/event/weekly-pirc-support-group-mckeesport-2-2/2025-10-08/
LOCATION:McKeesport YMCA\, 523 Sinclair St.\, McKeesport\, PA\, 15132\, United States
CATEGORIES:Reentry
ATTACH;FMTTYPE=image/webp:https://www.foundationofhope.org/wp-content/uploads/reentry-calendar-feature.webp
END:VEVENT
BEGIN:VEVENT
DTSTART;TZID=America/New_York:20251007T190000
DTEND;TZID=America/New_York:20251007T200000
DTSTAMP:20260422T183458
CREATED:20180626T234844Z
LAST-MODIFIED:20240629T162514Z
UID:10000900-1759863600-1759867200@www.foundationofhope.org
SUMMARY:Weekly PIRC Support Group – Northside (Tuesday)
DESCRIPTION:Weekly PIRC Support Group (Positive Initiative to Reinforce Change)\nThe PIRC Movement is for returning citizens and their supporters to change the community by first changing themselves.\nWe meet every Tuesday from 7:00-8:00 pm.\nThis group is for men and women. All are welcome and no need to RSVP.
URL:https://www.foundationofhope.org/event/weekly-pirc-support-group/2025-10-07/
LOCATION:Foundation of HOPE\, 901 Pennsylvania Avenue\, Suite 3A\, Pittsburgh\, PA\, 15233\, United States
CATEGORIES:Reentry
ATTACH;FMTTYPE=image/webp:https://www.foundationofhope.org/wp-content/uploads/reentry-calendar-feature.webp
END:VEVENT
BEGIN:VEVENT
DTSTART;TZID=America/New_York:20251006T190000
DTEND;TZID=America/New_York:20251006T200000
DTSTAMP:20260422T183458
CREATED:20231213T220053Z
LAST-MODIFIED:20240703T203455Z
UID:10003775-1759777200-1759780800@www.foundationofhope.org
SUMMARY:Weekly PIRC Support Group – Sharpsburg
DESCRIPTION:Weekly PIRC Support Group (Positive Initiative to Reinforce Change)\nThe PIRC Movement is for returning citizens and their supporters to change the community by first changing themselves.\nWe meet every Wednesday from 7:00-8:00 pm.\nThis group is for men and women.\nAll are welcome and no need to RSVP.
URL:https://www.foundationofhope.org/event/weekly-pirc-support-group-sharpsburg/2025-10-06/
LOCATION:Roots of Faith\, 800 Main St.\, Sharpsburg\, PA\, 15215\, United States
CATEGORIES:Reentry
ATTACH;FMTTYPE=image/webp:https://www.foundationofhope.org/wp-content/uploads/reentry-calendar-feature.webp
END:VEVENT
BEGIN:VEVENT
DTSTART;TZID=America/New_York:20251003T130000
DTEND;TZID=America/New_York:20251003T140000
DTSTAMP:20260422T183458
CREATED:20240123T192213Z
LAST-MODIFIED:20240629T161233Z
UID:10004892-1759496400-1759500000@www.foundationofhope.org
SUMMARY:Weekly PIRC Support Group – Northside (Friday)
DESCRIPTION:Weekly PIRC Support Group (Positive Initiative to Reinforce Change)\nThe PIRC Movement is for returning citizens and their supporters to change the community by first changing themselves.\nWe meet every Friday from 1:00-2:00 pm.\nThis group is for men and women. All are welcome and no need to RSVP.
URL:https://www.foundationofhope.org/event/weekly-pirc-support-group-northside-friday/2025-10-03/
LOCATION:Foundation of HOPE\, 901 Pennsylvania Avenue\, Suite 3A\, Pittsburgh\, PA\, 15233\, United States
CATEGORIES:Reentry
ATTACH;FMTTYPE=image/webp:https://www.foundationofhope.org/wp-content/uploads/reentry-calendar-feature.webp
END:VEVENT
BEGIN:VEVENT
DTSTART;TZID=America/New_York:20251002T180000
DTEND;TZID=America/New_York:20251002T190000
DTSTAMP:20260422T183458
CREATED:20230724T160032Z
LAST-MODIFIED:20240629T161404Z
UID:10002727-1759428000-1759431600@www.foundationofhope.org
SUMMARY:Weekly PIRC Support Group – McKees Rocks
DESCRIPTION:Weekly PIRC Support Group (Positive Initiative to Reinforce Change)\nThe PIRC Movement is for returning citizens and their supporters to change the community by first changing themselves.\nWe meet every Thursday from 6:00-7:00 pm.\nThis group is for men and women.\nAll are welcome and no need to RSVP.
URL:https://www.foundationofhope.org/event/weekly-pirc-support-group-mckees-rocks/2025-10-02/
LOCATION:C.A.S.H. Club\, 827 Broadway Avenue\, McKees Rocks\, PA\, 15136\, United States
CATEGORIES:Reentry
ATTACH;FMTTYPE=image/webp:https://www.foundationofhope.org/wp-content/uploads/reentry-calendar-feature.webp
END:VEVENT
END:VCALENDAR