BEGIN:VCALENDAR
VERSION:2.0
PRODID:-//Foundation of Hope - ECPv6.15.18//NONSGML v1.0//EN
CALSCALE:GREGORIAN
METHOD:PUBLISH
X-WR-CALNAME:Foundation of Hope
X-ORIGINAL-URL:https://www.foundationofhope.org
X-WR-CALDESC:Events for Foundation of Hope
REFRESH-INTERVAL;VALUE=DURATION:PT1H
X-Robots-Tag:noindex
X-PUBLISHED-TTL:PT1H
BEGIN:VTIMEZONE
TZID:America/New_York
BEGIN:DAYLIGHT
TZOFFSETFROM:-0500
TZOFFSETTO:-0400
TZNAME:EDT
DTSTART:20260308T070000
END:DAYLIGHT
BEGIN:STANDARD
TZOFFSETFROM:-0400
TZOFFSETTO:-0500
TZNAME:EST
DTSTART:20261101T060000
END:STANDARD
BEGIN:DAYLIGHT
TZOFFSETFROM:-0500
TZOFFSETTO:-0400
TZNAME:EDT
DTSTART:20270314T070000
END:DAYLIGHT
BEGIN:STANDARD
TZOFFSETFROM:-0400
TZOFFSETTO:-0500
TZNAME:EST
DTSTART:20271107T060000
END:STANDARD
BEGIN:DAYLIGHT
TZOFFSETFROM:-0500
TZOFFSETTO:-0400
TZNAME:EDT
DTSTART:20280312T070000
END:DAYLIGHT
BEGIN:STANDARD
TZOFFSETFROM:-0400
TZOFFSETTO:-0500
TZNAME:EST
DTSTART:20281105T060000
END:STANDARD
END:VTIMEZONE
BEGIN:VEVENT
DTSTART;TZID=America/New_York:20271028T180000
DTEND;TZID=America/New_York:20271028T190000
DTSTAMP:20260419T215421
CREATED:20230724T160032Z
LAST-MODIFIED:20240629T161404Z
UID:10002835-1824746400-1824750000@www.foundationofhope.org
SUMMARY:Weekly PIRC Support Group – McKees Rocks
DESCRIPTION:Weekly PIRC Support Group (Positive Initiative to Reinforce Change)\nThe PIRC Movement is for returning citizens and their supporters to change the community by first changing themselves.\nWe meet every Thursday from 6:00-7:00 pm.\nThis group is for men and women.\nAll are welcome and no need to RSVP.
URL:https://www.foundationofhope.org/event/weekly-pirc-support-group-mckees-rocks/2027-10-28/
LOCATION:C.A.S.H. Club\, 827 Broadway Avenue\, McKees Rocks\, PA\, 15136\, United States
CATEGORIES:Reentry
ATTACH;FMTTYPE=image/webp:https://www.foundationofhope.org/wp-content/uploads/reentry-calendar-feature.webp
END:VEVENT
BEGIN:VEVENT
DTSTART;TZID=America/New_York:20271027T190000
DTEND;TZID=America/New_York:20271027T200000
DTSTAMP:20260419T215421
CREATED:20250807T212617Z
LAST-MODIFIED:20250807T212618Z
UID:10005448-1824663600-1824667200@www.foundationofhope.org
SUMMARY:Weekly PIRC Support Group – McKeesport
DESCRIPTION:Weekly PIRC Support Group (Positive Initiative to Reinforce Change)\nThe PIRC Movement is for returning citizens and their supporters to change the community by first changing themselves.\nWe meet every Wednesday from 7:00-8:00 pm.\nThis group is for men and women.\nAll are welcome and no need to RSVP.
URL:https://www.foundationofhope.org/event/weekly-pirc-support-group-mckeesport-2-2/2027-10-27/
LOCATION:McKeesport YMCA\, 523 Sinclair St.\, McKeesport\, PA\, 15132\, United States
CATEGORIES:Reentry
ATTACH;FMTTYPE=image/webp:https://www.foundationofhope.org/wp-content/uploads/reentry-calendar-feature.webp
END:VEVENT
BEGIN:VEVENT
DTSTART;TZID=America/New_York:20271026T190000
DTEND;TZID=America/New_York:20271026T200000
DTSTAMP:20260419T215421
CREATED:20180626T234844Z
LAST-MODIFIED:20240629T162514Z
UID:10001007-1824577200-1824580800@www.foundationofhope.org
SUMMARY:Weekly PIRC Support Group – Northside (Tuesday)
DESCRIPTION:Weekly PIRC Support Group (Positive Initiative to Reinforce Change)\nThe PIRC Movement is for returning citizens and their supporters to change the community by first changing themselves.\nWe meet every Tuesday from 7:00-8:00 pm.\nThis group is for men and women. All are welcome and no need to RSVP.
URL:https://www.foundationofhope.org/event/weekly-pirc-support-group/2027-10-26/
LOCATION:Foundation of HOPE\, 901 Pennsylvania Avenue\, Suite 3A\, Pittsburgh\, PA\, 15233\, United States
CATEGORIES:Reentry
ATTACH;FMTTYPE=image/webp:https://www.foundationofhope.org/wp-content/uploads/reentry-calendar-feature.webp
END:VEVENT
BEGIN:VEVENT
DTSTART;TZID=America/New_York:20271025T190000
DTEND;TZID=America/New_York:20271025T200000
DTSTAMP:20260419T215421
CREATED:20231213T220053Z
LAST-MODIFIED:20240703T203455Z
UID:10003882-1824490800-1824494400@www.foundationofhope.org
SUMMARY:Weekly PIRC Support Group – Sharpsburg
DESCRIPTION:Weekly PIRC Support Group (Positive Initiative to Reinforce Change)\nThe PIRC Movement is for returning citizens and their supporters to change the community by first changing themselves.\nWe meet every Wednesday from 7:00-8:00 pm.\nThis group is for men and women.\nAll are welcome and no need to RSVP.
URL:https://www.foundationofhope.org/event/weekly-pirc-support-group-sharpsburg/2027-10-25/
LOCATION:Roots of Faith\, 800 Main St.\, Sharpsburg\, PA\, 15215\, United States
CATEGORIES:Reentry
ATTACH;FMTTYPE=image/webp:https://www.foundationofhope.org/wp-content/uploads/reentry-calendar-feature.webp
END:VEVENT
BEGIN:VEVENT
DTSTART;TZID=America/New_York:20271022T130000
DTEND;TZID=America/New_York:20271022T140000
DTSTAMP:20260419T215421
CREATED:20240123T192213Z
LAST-MODIFIED:20240629T161233Z
UID:10004999-1824210000-1824213600@www.foundationofhope.org
SUMMARY:Weekly PIRC Support Group – Northside (Friday)
DESCRIPTION:Weekly PIRC Support Group (Positive Initiative to Reinforce Change)\nThe PIRC Movement is for returning citizens and their supporters to change the community by first changing themselves.\nWe meet every Friday from 1:00-2:00 pm.\nThis group is for men and women. All are welcome and no need to RSVP.
URL:https://www.foundationofhope.org/event/weekly-pirc-support-group-northside-friday/2027-10-22/
LOCATION:Foundation of HOPE\, 901 Pennsylvania Avenue\, Suite 3A\, Pittsburgh\, PA\, 15233\, United States
CATEGORIES:Reentry
ATTACH;FMTTYPE=image/webp:https://www.foundationofhope.org/wp-content/uploads/reentry-calendar-feature.webp
END:VEVENT
BEGIN:VEVENT
DTSTART;TZID=America/New_York:20271021T180000
DTEND;TZID=America/New_York:20271021T190000
DTSTAMP:20260419T215421
CREATED:20230724T160032Z
LAST-MODIFIED:20240629T161404Z
UID:10002834-1824141600-1824145200@www.foundationofhope.org
SUMMARY:Weekly PIRC Support Group – McKees Rocks
DESCRIPTION:Weekly PIRC Support Group (Positive Initiative to Reinforce Change)\nThe PIRC Movement is for returning citizens and their supporters to change the community by first changing themselves.\nWe meet every Thursday from 6:00-7:00 pm.\nThis group is for men and women.\nAll are welcome and no need to RSVP.
URL:https://www.foundationofhope.org/event/weekly-pirc-support-group-mckees-rocks/2027-10-21/
LOCATION:C.A.S.H. Club\, 827 Broadway Avenue\, McKees Rocks\, PA\, 15136\, United States
CATEGORIES:Reentry
ATTACH;FMTTYPE=image/webp:https://www.foundationofhope.org/wp-content/uploads/reentry-calendar-feature.webp
END:VEVENT
BEGIN:VEVENT
DTSTART;TZID=America/New_York:20271020T190000
DTEND;TZID=America/New_York:20271020T200000
DTSTAMP:20260419T215421
CREATED:20250807T212617Z
LAST-MODIFIED:20250807T212618Z
UID:10005447-1824058800-1824062400@www.foundationofhope.org
SUMMARY:Weekly PIRC Support Group – McKeesport
DESCRIPTION:Weekly PIRC Support Group (Positive Initiative to Reinforce Change)\nThe PIRC Movement is for returning citizens and their supporters to change the community by first changing themselves.\nWe meet every Wednesday from 7:00-8:00 pm.\nThis group is for men and women.\nAll are welcome and no need to RSVP.
URL:https://www.foundationofhope.org/event/weekly-pirc-support-group-mckeesport-2-2/2027-10-20/
LOCATION:McKeesport YMCA\, 523 Sinclair St.\, McKeesport\, PA\, 15132\, United States
CATEGORIES:Reentry
ATTACH;FMTTYPE=image/webp:https://www.foundationofhope.org/wp-content/uploads/reentry-calendar-feature.webp
END:VEVENT
BEGIN:VEVENT
DTSTART;TZID=America/New_York:20271019T190000
DTEND;TZID=America/New_York:20271019T200000
DTSTAMP:20260419T215421
CREATED:20180626T234844Z
LAST-MODIFIED:20240629T162514Z
UID:10001006-1823972400-1823976000@www.foundationofhope.org
SUMMARY:Weekly PIRC Support Group – Northside (Tuesday)
DESCRIPTION:Weekly PIRC Support Group (Positive Initiative to Reinforce Change)\nThe PIRC Movement is for returning citizens and their supporters to change the community by first changing themselves.\nWe meet every Tuesday from 7:00-8:00 pm.\nThis group is for men and women. All are welcome and no need to RSVP.
URL:https://www.foundationofhope.org/event/weekly-pirc-support-group/2027-10-19/
LOCATION:Foundation of HOPE\, 901 Pennsylvania Avenue\, Suite 3A\, Pittsburgh\, PA\, 15233\, United States
CATEGORIES:Reentry
ATTACH;FMTTYPE=image/webp:https://www.foundationofhope.org/wp-content/uploads/reentry-calendar-feature.webp
END:VEVENT
BEGIN:VEVENT
DTSTART;TZID=America/New_York:20271018T190000
DTEND;TZID=America/New_York:20271018T200000
DTSTAMP:20260419T215421
CREATED:20231213T220053Z
LAST-MODIFIED:20240703T203455Z
UID:10003881-1823886000-1823889600@www.foundationofhope.org
SUMMARY:Weekly PIRC Support Group – Sharpsburg
DESCRIPTION:Weekly PIRC Support Group (Positive Initiative to Reinforce Change)\nThe PIRC Movement is for returning citizens and their supporters to change the community by first changing themselves.\nWe meet every Wednesday from 7:00-8:00 pm.\nThis group is for men and women.\nAll are welcome and no need to RSVP.
URL:https://www.foundationofhope.org/event/weekly-pirc-support-group-sharpsburg/2027-10-18/
LOCATION:Roots of Faith\, 800 Main St.\, Sharpsburg\, PA\, 15215\, United States
CATEGORIES:Reentry
ATTACH;FMTTYPE=image/webp:https://www.foundationofhope.org/wp-content/uploads/reentry-calendar-feature.webp
END:VEVENT
BEGIN:VEVENT
DTSTART;TZID=America/New_York:20271015T130000
DTEND;TZID=America/New_York:20271015T140000
DTSTAMP:20260419T215421
CREATED:20240123T192213Z
LAST-MODIFIED:20240629T161233Z
UID:10004998-1823605200-1823608800@www.foundationofhope.org
SUMMARY:Weekly PIRC Support Group – Northside (Friday)
DESCRIPTION:Weekly PIRC Support Group (Positive Initiative to Reinforce Change)\nThe PIRC Movement is for returning citizens and their supporters to change the community by first changing themselves.\nWe meet every Friday from 1:00-2:00 pm.\nThis group is for men and women. All are welcome and no need to RSVP.
URL:https://www.foundationofhope.org/event/weekly-pirc-support-group-northside-friday/2027-10-15/
LOCATION:Foundation of HOPE\, 901 Pennsylvania Avenue\, Suite 3A\, Pittsburgh\, PA\, 15233\, United States
CATEGORIES:Reentry
ATTACH;FMTTYPE=image/webp:https://www.foundationofhope.org/wp-content/uploads/reentry-calendar-feature.webp
END:VEVENT
BEGIN:VEVENT
DTSTART;TZID=America/New_York:20271014T180000
DTEND;TZID=America/New_York:20271014T190000
DTSTAMP:20260419T215421
CREATED:20230724T160032Z
LAST-MODIFIED:20240629T161404Z
UID:10002833-1823536800-1823540400@www.foundationofhope.org
SUMMARY:Weekly PIRC Support Group – McKees Rocks
DESCRIPTION:Weekly PIRC Support Group (Positive Initiative to Reinforce Change)\nThe PIRC Movement is for returning citizens and their supporters to change the community by first changing themselves.\nWe meet every Thursday from 6:00-7:00 pm.\nThis group is for men and women.\nAll are welcome and no need to RSVP.
URL:https://www.foundationofhope.org/event/weekly-pirc-support-group-mckees-rocks/2027-10-14/
LOCATION:C.A.S.H. Club\, 827 Broadway Avenue\, McKees Rocks\, PA\, 15136\, United States
CATEGORIES:Reentry
ATTACH;FMTTYPE=image/webp:https://www.foundationofhope.org/wp-content/uploads/reentry-calendar-feature.webp
END:VEVENT
BEGIN:VEVENT
DTSTART;TZID=America/New_York:20271013T190000
DTEND;TZID=America/New_York:20271013T200000
DTSTAMP:20260419T215421
CREATED:20250807T212617Z
LAST-MODIFIED:20250807T212618Z
UID:10005446-1823454000-1823457600@www.foundationofhope.org
SUMMARY:Weekly PIRC Support Group – McKeesport
DESCRIPTION:Weekly PIRC Support Group (Positive Initiative to Reinforce Change)\nThe PIRC Movement is for returning citizens and their supporters to change the community by first changing themselves.\nWe meet every Wednesday from 7:00-8:00 pm.\nThis group is for men and women.\nAll are welcome and no need to RSVP.
URL:https://www.foundationofhope.org/event/weekly-pirc-support-group-mckeesport-2-2/2027-10-13/
LOCATION:McKeesport YMCA\, 523 Sinclair St.\, McKeesport\, PA\, 15132\, United States
CATEGORIES:Reentry
ATTACH;FMTTYPE=image/webp:https://www.foundationofhope.org/wp-content/uploads/reentry-calendar-feature.webp
END:VEVENT
BEGIN:VEVENT
DTSTART;TZID=America/New_York:20271012T190000
DTEND;TZID=America/New_York:20271012T200000
DTSTAMP:20260419T215421
CREATED:20180626T234844Z
LAST-MODIFIED:20240629T162514Z
UID:10001005-1823367600-1823371200@www.foundationofhope.org
SUMMARY:Weekly PIRC Support Group – Northside (Tuesday)
DESCRIPTION:Weekly PIRC Support Group (Positive Initiative to Reinforce Change)\nThe PIRC Movement is for returning citizens and their supporters to change the community by first changing themselves.\nWe meet every Tuesday from 7:00-8:00 pm.\nThis group is for men and women. All are welcome and no need to RSVP.
URL:https://www.foundationofhope.org/event/weekly-pirc-support-group/2027-10-12/
LOCATION:Foundation of HOPE\, 901 Pennsylvania Avenue\, Suite 3A\, Pittsburgh\, PA\, 15233\, United States
CATEGORIES:Reentry
ATTACH;FMTTYPE=image/webp:https://www.foundationofhope.org/wp-content/uploads/reentry-calendar-feature.webp
END:VEVENT
BEGIN:VEVENT
DTSTART;TZID=America/New_York:20271011T190000
DTEND;TZID=America/New_York:20271011T200000
DTSTAMP:20260419T215421
CREATED:20231213T220053Z
LAST-MODIFIED:20240703T203455Z
UID:10003880-1823281200-1823284800@www.foundationofhope.org
SUMMARY:Weekly PIRC Support Group – Sharpsburg
DESCRIPTION:Weekly PIRC Support Group (Positive Initiative to Reinforce Change)\nThe PIRC Movement is for returning citizens and their supporters to change the community by first changing themselves.\nWe meet every Wednesday from 7:00-8:00 pm.\nThis group is for men and women.\nAll are welcome and no need to RSVP.
URL:https://www.foundationofhope.org/event/weekly-pirc-support-group-sharpsburg/2027-10-11/
LOCATION:Roots of Faith\, 800 Main St.\, Sharpsburg\, PA\, 15215\, United States
CATEGORIES:Reentry
ATTACH;FMTTYPE=image/webp:https://www.foundationofhope.org/wp-content/uploads/reentry-calendar-feature.webp
END:VEVENT
BEGIN:VEVENT
DTSTART;TZID=America/New_York:20271008T130000
DTEND;TZID=America/New_York:20271008T140000
DTSTAMP:20260419T215421
CREATED:20240123T192213Z
LAST-MODIFIED:20240629T161233Z
UID:10004997-1823000400-1823004000@www.foundationofhope.org
SUMMARY:Weekly PIRC Support Group – Northside (Friday)
DESCRIPTION:Weekly PIRC Support Group (Positive Initiative to Reinforce Change)\nThe PIRC Movement is for returning citizens and their supporters to change the community by first changing themselves.\nWe meet every Friday from 1:00-2:00 pm.\nThis group is for men and women. All are welcome and no need to RSVP.
URL:https://www.foundationofhope.org/event/weekly-pirc-support-group-northside-friday/2027-10-08/
LOCATION:Foundation of HOPE\, 901 Pennsylvania Avenue\, Suite 3A\, Pittsburgh\, PA\, 15233\, United States
CATEGORIES:Reentry
ATTACH;FMTTYPE=image/webp:https://www.foundationofhope.org/wp-content/uploads/reentry-calendar-feature.webp
END:VEVENT
BEGIN:VEVENT
DTSTART;TZID=America/New_York:20271007T180000
DTEND;TZID=America/New_York:20271007T190000
DTSTAMP:20260419T215421
CREATED:20230724T160032Z
LAST-MODIFIED:20240629T161404Z
UID:10002832-1822932000-1822935600@www.foundationofhope.org
SUMMARY:Weekly PIRC Support Group – McKees Rocks
DESCRIPTION:Weekly PIRC Support Group (Positive Initiative to Reinforce Change)\nThe PIRC Movement is for returning citizens and their supporters to change the community by first changing themselves.\nWe meet every Thursday from 6:00-7:00 pm.\nThis group is for men and women.\nAll are welcome and no need to RSVP.
URL:https://www.foundationofhope.org/event/weekly-pirc-support-group-mckees-rocks/2027-10-07/
LOCATION:C.A.S.H. Club\, 827 Broadway Avenue\, McKees Rocks\, PA\, 15136\, United States
CATEGORIES:Reentry
ATTACH;FMTTYPE=image/webp:https://www.foundationofhope.org/wp-content/uploads/reentry-calendar-feature.webp
END:VEVENT
BEGIN:VEVENT
DTSTART;TZID=America/New_York:20271006T190000
DTEND;TZID=America/New_York:20271006T200000
DTSTAMP:20260419T215421
CREATED:20250807T212617Z
LAST-MODIFIED:20250807T212618Z
UID:10005445-1822849200-1822852800@www.foundationofhope.org
SUMMARY:Weekly PIRC Support Group – McKeesport
DESCRIPTION:Weekly PIRC Support Group (Positive Initiative to Reinforce Change)\nThe PIRC Movement is for returning citizens and their supporters to change the community by first changing themselves.\nWe meet every Wednesday from 7:00-8:00 pm.\nThis group is for men and women.\nAll are welcome and no need to RSVP.
URL:https://www.foundationofhope.org/event/weekly-pirc-support-group-mckeesport-2-2/2027-10-06/
LOCATION:McKeesport YMCA\, 523 Sinclair St.\, McKeesport\, PA\, 15132\, United States
CATEGORIES:Reentry
ATTACH;FMTTYPE=image/webp:https://www.foundationofhope.org/wp-content/uploads/reentry-calendar-feature.webp
END:VEVENT
BEGIN:VEVENT
DTSTART;TZID=America/New_York:20271005T190000
DTEND;TZID=America/New_York:20271005T200000
DTSTAMP:20260419T215421
CREATED:20180626T234844Z
LAST-MODIFIED:20240629T162514Z
UID:10001004-1822762800-1822766400@www.foundationofhope.org
SUMMARY:Weekly PIRC Support Group – Northside (Tuesday)
DESCRIPTION:Weekly PIRC Support Group (Positive Initiative to Reinforce Change)\nThe PIRC Movement is for returning citizens and their supporters to change the community by first changing themselves.\nWe meet every Tuesday from 7:00-8:00 pm.\nThis group is for men and women. All are welcome and no need to RSVP.
URL:https://www.foundationofhope.org/event/weekly-pirc-support-group/2027-10-05/
LOCATION:Foundation of HOPE\, 901 Pennsylvania Avenue\, Suite 3A\, Pittsburgh\, PA\, 15233\, United States
CATEGORIES:Reentry
ATTACH;FMTTYPE=image/webp:https://www.foundationofhope.org/wp-content/uploads/reentry-calendar-feature.webp
END:VEVENT
BEGIN:VEVENT
DTSTART;TZID=America/New_York:20271004T190000
DTEND;TZID=America/New_York:20271004T200000
DTSTAMP:20260419T215421
CREATED:20231213T220053Z
LAST-MODIFIED:20240703T203455Z
UID:10003879-1822676400-1822680000@www.foundationofhope.org
SUMMARY:Weekly PIRC Support Group – Sharpsburg
DESCRIPTION:Weekly PIRC Support Group (Positive Initiative to Reinforce Change)\nThe PIRC Movement is for returning citizens and their supporters to change the community by first changing themselves.\nWe meet every Wednesday from 7:00-8:00 pm.\nThis group is for men and women.\nAll are welcome and no need to RSVP.
URL:https://www.foundationofhope.org/event/weekly-pirc-support-group-sharpsburg/2027-10-04/
LOCATION:Roots of Faith\, 800 Main St.\, Sharpsburg\, PA\, 15215\, United States
CATEGORIES:Reentry
ATTACH;FMTTYPE=image/webp:https://www.foundationofhope.org/wp-content/uploads/reentry-calendar-feature.webp
END:VEVENT
BEGIN:VEVENT
DTSTART;TZID=America/New_York:20271001T130000
DTEND;TZID=America/New_York:20271001T140000
DTSTAMP:20260419T215421
CREATED:20240123T192213Z
LAST-MODIFIED:20240629T161233Z
UID:10004996-1822395600-1822399200@www.foundationofhope.org
SUMMARY:Weekly PIRC Support Group – Northside (Friday)
DESCRIPTION:Weekly PIRC Support Group (Positive Initiative to Reinforce Change)\nThe PIRC Movement is for returning citizens and their supporters to change the community by first changing themselves.\nWe meet every Friday from 1:00-2:00 pm.\nThis group is for men and women. All are welcome and no need to RSVP.
URL:https://www.foundationofhope.org/event/weekly-pirc-support-group-northside-friday/2027-10-01/
LOCATION:Foundation of HOPE\, 901 Pennsylvania Avenue\, Suite 3A\, Pittsburgh\, PA\, 15233\, United States
CATEGORIES:Reentry
ATTACH;FMTTYPE=image/webp:https://www.foundationofhope.org/wp-content/uploads/reentry-calendar-feature.webp
END:VEVENT
BEGIN:VEVENT
DTSTART;TZID=America/New_York:20270930T180000
DTEND;TZID=America/New_York:20270930T190000
DTSTAMP:20260419T215421
CREATED:20230724T160032Z
LAST-MODIFIED:20240629T161404Z
UID:10002831-1822327200-1822330800@www.foundationofhope.org
SUMMARY:Weekly PIRC Support Group – McKees Rocks
DESCRIPTION:Weekly PIRC Support Group (Positive Initiative to Reinforce Change)\nThe PIRC Movement is for returning citizens and their supporters to change the community by first changing themselves.\nWe meet every Thursday from 6:00-7:00 pm.\nThis group is for men and women.\nAll are welcome and no need to RSVP.
URL:https://www.foundationofhope.org/event/weekly-pirc-support-group-mckees-rocks/2027-09-30/
LOCATION:C.A.S.H. Club\, 827 Broadway Avenue\, McKees Rocks\, PA\, 15136\, United States
CATEGORIES:Reentry
ATTACH;FMTTYPE=image/webp:https://www.foundationofhope.org/wp-content/uploads/reentry-calendar-feature.webp
END:VEVENT
BEGIN:VEVENT
DTSTART;TZID=America/New_York:20270929T190000
DTEND;TZID=America/New_York:20270929T200000
DTSTAMP:20260419T215421
CREATED:20250807T212617Z
LAST-MODIFIED:20250807T212618Z
UID:10005444-1822244400-1822248000@www.foundationofhope.org
SUMMARY:Weekly PIRC Support Group – McKeesport
DESCRIPTION:Weekly PIRC Support Group (Positive Initiative to Reinforce Change)\nThe PIRC Movement is for returning citizens and their supporters to change the community by first changing themselves.\nWe meet every Wednesday from 7:00-8:00 pm.\nThis group is for men and women.\nAll are welcome and no need to RSVP.
URL:https://www.foundationofhope.org/event/weekly-pirc-support-group-mckeesport-2-2/2027-09-29/
LOCATION:McKeesport YMCA\, 523 Sinclair St.\, McKeesport\, PA\, 15132\, United States
CATEGORIES:Reentry
ATTACH;FMTTYPE=image/webp:https://www.foundationofhope.org/wp-content/uploads/reentry-calendar-feature.webp
END:VEVENT
BEGIN:VEVENT
DTSTART;TZID=America/New_York:20270928T190000
DTEND;TZID=America/New_York:20270928T200000
DTSTAMP:20260419T215421
CREATED:20180626T234844Z
LAST-MODIFIED:20240629T162514Z
UID:10001003-1822158000-1822161600@www.foundationofhope.org
SUMMARY:Weekly PIRC Support Group – Northside (Tuesday)
DESCRIPTION:Weekly PIRC Support Group (Positive Initiative to Reinforce Change)\nThe PIRC Movement is for returning citizens and their supporters to change the community by first changing themselves.\nWe meet every Tuesday from 7:00-8:00 pm.\nThis group is for men and women. All are welcome and no need to RSVP.
URL:https://www.foundationofhope.org/event/weekly-pirc-support-group/2027-09-28/
LOCATION:Foundation of HOPE\, 901 Pennsylvania Avenue\, Suite 3A\, Pittsburgh\, PA\, 15233\, United States
CATEGORIES:Reentry
ATTACH;FMTTYPE=image/webp:https://www.foundationofhope.org/wp-content/uploads/reentry-calendar-feature.webp
END:VEVENT
BEGIN:VEVENT
DTSTART;TZID=America/New_York:20270927T190000
DTEND;TZID=America/New_York:20270927T200000
DTSTAMP:20260419T215421
CREATED:20231213T220053Z
LAST-MODIFIED:20240703T203455Z
UID:10003878-1822071600-1822075200@www.foundationofhope.org
SUMMARY:Weekly PIRC Support Group – Sharpsburg
DESCRIPTION:Weekly PIRC Support Group (Positive Initiative to Reinforce Change)\nThe PIRC Movement is for returning citizens and their supporters to change the community by first changing themselves.\nWe meet every Wednesday from 7:00-8:00 pm.\nThis group is for men and women.\nAll are welcome and no need to RSVP.
URL:https://www.foundationofhope.org/event/weekly-pirc-support-group-sharpsburg/2027-09-27/
LOCATION:Roots of Faith\, 800 Main St.\, Sharpsburg\, PA\, 15215\, United States
CATEGORIES:Reentry
ATTACH;FMTTYPE=image/webp:https://www.foundationofhope.org/wp-content/uploads/reentry-calendar-feature.webp
END:VEVENT
BEGIN:VEVENT
DTSTART;TZID=America/New_York:20270924T130000
DTEND;TZID=America/New_York:20270924T140000
DTSTAMP:20260419T215421
CREATED:20240123T192213Z
LAST-MODIFIED:20240629T161233Z
UID:10004995-1821790800-1821794400@www.foundationofhope.org
SUMMARY:Weekly PIRC Support Group – Northside (Friday)
DESCRIPTION:Weekly PIRC Support Group (Positive Initiative to Reinforce Change)\nThe PIRC Movement is for returning citizens and their supporters to change the community by first changing themselves.\nWe meet every Friday from 1:00-2:00 pm.\nThis group is for men and women. All are welcome and no need to RSVP.
URL:https://www.foundationofhope.org/event/weekly-pirc-support-group-northside-friday/2027-09-24/
LOCATION:Foundation of HOPE\, 901 Pennsylvania Avenue\, Suite 3A\, Pittsburgh\, PA\, 15233\, United States
CATEGORIES:Reentry
ATTACH;FMTTYPE=image/webp:https://www.foundationofhope.org/wp-content/uploads/reentry-calendar-feature.webp
END:VEVENT
BEGIN:VEVENT
DTSTART;TZID=America/New_York:20270923T180000
DTEND;TZID=America/New_York:20270923T190000
DTSTAMP:20260419T215421
CREATED:20230724T160032Z
LAST-MODIFIED:20240629T161404Z
UID:10002830-1821722400-1821726000@www.foundationofhope.org
SUMMARY:Weekly PIRC Support Group – McKees Rocks
DESCRIPTION:Weekly PIRC Support Group (Positive Initiative to Reinforce Change)\nThe PIRC Movement is for returning citizens and their supporters to change the community by first changing themselves.\nWe meet every Thursday from 6:00-7:00 pm.\nThis group is for men and women.\nAll are welcome and no need to RSVP.
URL:https://www.foundationofhope.org/event/weekly-pirc-support-group-mckees-rocks/2027-09-23/
LOCATION:C.A.S.H. Club\, 827 Broadway Avenue\, McKees Rocks\, PA\, 15136\, United States
CATEGORIES:Reentry
ATTACH;FMTTYPE=image/webp:https://www.foundationofhope.org/wp-content/uploads/reentry-calendar-feature.webp
END:VEVENT
BEGIN:VEVENT
DTSTART;TZID=America/New_York:20270922T190000
DTEND;TZID=America/New_York:20270922T200000
DTSTAMP:20260419T215421
CREATED:20250807T212617Z
LAST-MODIFIED:20250807T212618Z
UID:10005443-1821639600-1821643200@www.foundationofhope.org
SUMMARY:Weekly PIRC Support Group – McKeesport
DESCRIPTION:Weekly PIRC Support Group (Positive Initiative to Reinforce Change)\nThe PIRC Movement is for returning citizens and their supporters to change the community by first changing themselves.\nWe meet every Wednesday from 7:00-8:00 pm.\nThis group is for men and women.\nAll are welcome and no need to RSVP.
URL:https://www.foundationofhope.org/event/weekly-pirc-support-group-mckeesport-2-2/2027-09-22/
LOCATION:McKeesport YMCA\, 523 Sinclair St.\, McKeesport\, PA\, 15132\, United States
CATEGORIES:Reentry
ATTACH;FMTTYPE=image/webp:https://www.foundationofhope.org/wp-content/uploads/reentry-calendar-feature.webp
END:VEVENT
BEGIN:VEVENT
DTSTART;TZID=America/New_York:20270921T190000
DTEND;TZID=America/New_York:20270921T200000
DTSTAMP:20260419T215421
CREATED:20180626T234844Z
LAST-MODIFIED:20240629T162514Z
UID:10001002-1821553200-1821556800@www.foundationofhope.org
SUMMARY:Weekly PIRC Support Group – Northside (Tuesday)
DESCRIPTION:Weekly PIRC Support Group (Positive Initiative to Reinforce Change)\nThe PIRC Movement is for returning citizens and their supporters to change the community by first changing themselves.\nWe meet every Tuesday from 7:00-8:00 pm.\nThis group is for men and women. All are welcome and no need to RSVP.
URL:https://www.foundationofhope.org/event/weekly-pirc-support-group/2027-09-21/
LOCATION:Foundation of HOPE\, 901 Pennsylvania Avenue\, Suite 3A\, Pittsburgh\, PA\, 15233\, United States
CATEGORIES:Reentry
ATTACH;FMTTYPE=image/webp:https://www.foundationofhope.org/wp-content/uploads/reentry-calendar-feature.webp
END:VEVENT
BEGIN:VEVENT
DTSTART;TZID=America/New_York:20270920T190000
DTEND;TZID=America/New_York:20270920T200000
DTSTAMP:20260419T215421
CREATED:20231213T220053Z
LAST-MODIFIED:20240703T203455Z
UID:10003877-1821466800-1821470400@www.foundationofhope.org
SUMMARY:Weekly PIRC Support Group – Sharpsburg
DESCRIPTION:Weekly PIRC Support Group (Positive Initiative to Reinforce Change)\nThe PIRC Movement is for returning citizens and their supporters to change the community by first changing themselves.\nWe meet every Wednesday from 7:00-8:00 pm.\nThis group is for men and women.\nAll are welcome and no need to RSVP.
URL:https://www.foundationofhope.org/event/weekly-pirc-support-group-sharpsburg/2027-09-20/
LOCATION:Roots of Faith\, 800 Main St.\, Sharpsburg\, PA\, 15215\, United States
CATEGORIES:Reentry
ATTACH;FMTTYPE=image/webp:https://www.foundationofhope.org/wp-content/uploads/reentry-calendar-feature.webp
END:VEVENT
BEGIN:VEVENT
DTSTART;TZID=America/New_York:20270917T130000
DTEND;TZID=America/New_York:20270917T140000
DTSTAMP:20260419T215421
CREATED:20240123T192213Z
LAST-MODIFIED:20240629T161233Z
UID:10004994-1821186000-1821189600@www.foundationofhope.org
SUMMARY:Weekly PIRC Support Group – Northside (Friday)
DESCRIPTION:Weekly PIRC Support Group (Positive Initiative to Reinforce Change)\nThe PIRC Movement is for returning citizens and their supporters to change the community by first changing themselves.\nWe meet every Friday from 1:00-2:00 pm.\nThis group is for men and women. All are welcome and no need to RSVP.
URL:https://www.foundationofhope.org/event/weekly-pirc-support-group-northside-friday/2027-09-17/
LOCATION:Foundation of HOPE\, 901 Pennsylvania Avenue\, Suite 3A\, Pittsburgh\, PA\, 15233\, United States
CATEGORIES:Reentry
ATTACH;FMTTYPE=image/webp:https://www.foundationofhope.org/wp-content/uploads/reentry-calendar-feature.webp
END:VEVENT
END:VCALENDAR