BEGIN:VCALENDAR
VERSION:2.0
PRODID:-//Foundation of Hope - ECPv6.15.18//NONSGML v1.0//EN
CALSCALE:GREGORIAN
METHOD:PUBLISH
X-ORIGINAL-URL:https://www.foundationofhope.org
X-WR-CALDESC:Events for Foundation of Hope
REFRESH-INTERVAL;VALUE=DURATION:PT1H
X-Robots-Tag:noindex
X-PUBLISHED-TTL:PT1H
BEGIN:VTIMEZONE
TZID:America/New_York
BEGIN:DAYLIGHT
TZOFFSETFROM:-0500
TZOFFSETTO:-0400
TZNAME:EDT
DTSTART:20260308T070000
END:DAYLIGHT
BEGIN:STANDARD
TZOFFSETFROM:-0400
TZOFFSETTO:-0500
TZNAME:EST
DTSTART:20261101T060000
END:STANDARD
BEGIN:DAYLIGHT
TZOFFSETFROM:-0500
TZOFFSETTO:-0400
TZNAME:EDT
DTSTART:20270314T070000
END:DAYLIGHT
BEGIN:STANDARD
TZOFFSETFROM:-0400
TZOFFSETTO:-0500
TZNAME:EST
DTSTART:20271107T060000
END:STANDARD
BEGIN:DAYLIGHT
TZOFFSETFROM:-0500
TZOFFSETTO:-0400
TZNAME:EDT
DTSTART:20280312T070000
END:DAYLIGHT
BEGIN:STANDARD
TZOFFSETFROM:-0400
TZOFFSETTO:-0500
TZNAME:EST
DTSTART:20281105T060000
END:STANDARD
END:VTIMEZONE
BEGIN:VEVENT
DTSTART;TZID=America/New_York:20270729T180000
DTEND;TZID=America/New_York:20270729T190000
DTSTAMP:20260422T205728
CREATED:20230724T160032Z
LAST-MODIFIED:20240629T161404Z
UID:10002822-1816884000-1816887600@www.foundationofhope.org
SUMMARY:Weekly PIRC Support Group – McKees Rocks
DESCRIPTION:Weekly PIRC Support Group (Positive Initiative to Reinforce Change)\nThe PIRC Movement is for returning citizens and their supporters to change the community by first changing themselves.\nWe meet every Thursday from 6:00-7:00 pm.\nThis group is for men and women.\nAll are welcome and no need to RSVP.
URL:https://www.foundationofhope.org/event/weekly-pirc-support-group-mckees-rocks/2027-07-29/
LOCATION:C.A.S.H. Club\, 827 Broadway Avenue\, McKees Rocks\, PA\, 15136\, United States
CATEGORIES:Reentry
ATTACH;FMTTYPE=image/webp:https://www.foundationofhope.org/wp-content/uploads/reentry-calendar-feature.webp
END:VEVENT
BEGIN:VEVENT
DTSTART;TZID=America/New_York:20270730T130000
DTEND;TZID=America/New_York:20270730T140000
DTSTAMP:20260422T205728
CREATED:20240123T192213Z
LAST-MODIFIED:20240629T161233Z
UID:10004987-1816952400-1816956000@www.foundationofhope.org
SUMMARY:Weekly PIRC Support Group – Northside (Friday)
DESCRIPTION:Weekly PIRC Support Group (Positive Initiative to Reinforce Change)\nThe PIRC Movement is for returning citizens and their supporters to change the community by first changing themselves.\nWe meet every Friday from 1:00-2:00 pm.\nThis group is for men and women. All are welcome and no need to RSVP.
URL:https://www.foundationofhope.org/event/weekly-pirc-support-group-northside-friday/2027-07-30/
LOCATION:Foundation of HOPE\, 901 Pennsylvania Avenue\, Suite 3A\, Pittsburgh\, PA\, 15233\, United States
CATEGORIES:Reentry
ATTACH;FMTTYPE=image/webp:https://www.foundationofhope.org/wp-content/uploads/reentry-calendar-feature.webp
END:VEVENT
BEGIN:VEVENT
DTSTART;TZID=America/New_York:20270802T190000
DTEND;TZID=America/New_York:20270802T200000
DTSTAMP:20260422T205728
CREATED:20231213T220053Z
LAST-MODIFIED:20240703T203455Z
UID:10003870-1817233200-1817236800@www.foundationofhope.org
SUMMARY:Weekly PIRC Support Group – Sharpsburg
DESCRIPTION:Weekly PIRC Support Group (Positive Initiative to Reinforce Change)\nThe PIRC Movement is for returning citizens and their supporters to change the community by first changing themselves.\nWe meet every Wednesday from 7:00-8:00 pm.\nThis group is for men and women.\nAll are welcome and no need to RSVP.
URL:https://www.foundationofhope.org/event/weekly-pirc-support-group-sharpsburg/2027-08-02/
LOCATION:Roots of Faith\, 800 Main St.\, Sharpsburg\, PA\, 15215\, United States
CATEGORIES:Reentry
ATTACH;FMTTYPE=image/webp:https://www.foundationofhope.org/wp-content/uploads/reentry-calendar-feature.webp
END:VEVENT
BEGIN:VEVENT
DTSTART;TZID=America/New_York:20270803T190000
DTEND;TZID=America/New_York:20270803T200000
DTSTAMP:20260422T205728
CREATED:20180626T234844Z
LAST-MODIFIED:20240629T162514Z
UID:10000995-1817319600-1817323200@www.foundationofhope.org
SUMMARY:Weekly PIRC Support Group – Northside (Tuesday)
DESCRIPTION:Weekly PIRC Support Group (Positive Initiative to Reinforce Change)\nThe PIRC Movement is for returning citizens and their supporters to change the community by first changing themselves.\nWe meet every Tuesday from 7:00-8:00 pm.\nThis group is for men and women. All are welcome and no need to RSVP.
URL:https://www.foundationofhope.org/event/weekly-pirc-support-group/2027-08-03/
LOCATION:Foundation of HOPE\, 901 Pennsylvania Avenue\, Suite 3A\, Pittsburgh\, PA\, 15233\, United States
CATEGORIES:Reentry
ATTACH;FMTTYPE=image/webp:https://www.foundationofhope.org/wp-content/uploads/reentry-calendar-feature.webp
END:VEVENT
BEGIN:VEVENT
DTSTART;TZID=America/New_York:20270804T190000
DTEND;TZID=America/New_York:20270804T200000
DTSTAMP:20260422T205728
CREATED:20250807T212617Z
LAST-MODIFIED:20250807T212618Z
UID:10005436-1817406000-1817409600@www.foundationofhope.org
SUMMARY:Weekly PIRC Support Group – McKeesport
DESCRIPTION:Weekly PIRC Support Group (Positive Initiative to Reinforce Change)\nThe PIRC Movement is for returning citizens and their supporters to change the community by first changing themselves.\nWe meet every Wednesday from 7:00-8:00 pm.\nThis group is for men and women.\nAll are welcome and no need to RSVP.
URL:https://www.foundationofhope.org/event/weekly-pirc-support-group-mckeesport-2-2/2027-08-04/
LOCATION:McKeesport YMCA\, 523 Sinclair St.\, McKeesport\, PA\, 15132\, United States
CATEGORIES:Reentry
ATTACH;FMTTYPE=image/webp:https://www.foundationofhope.org/wp-content/uploads/reentry-calendar-feature.webp
END:VEVENT
BEGIN:VEVENT
DTSTART;TZID=America/New_York:20270805T180000
DTEND;TZID=America/New_York:20270805T190000
DTSTAMP:20260422T205728
CREATED:20230724T160032Z
LAST-MODIFIED:20240629T161404Z
UID:10002823-1817488800-1817492400@www.foundationofhope.org
SUMMARY:Weekly PIRC Support Group – McKees Rocks
DESCRIPTION:Weekly PIRC Support Group (Positive Initiative to Reinforce Change)\nThe PIRC Movement is for returning citizens and their supporters to change the community by first changing themselves.\nWe meet every Thursday from 6:00-7:00 pm.\nThis group is for men and women.\nAll are welcome and no need to RSVP.
URL:https://www.foundationofhope.org/event/weekly-pirc-support-group-mckees-rocks/2027-08-05/
LOCATION:C.A.S.H. Club\, 827 Broadway Avenue\, McKees Rocks\, PA\, 15136\, United States
CATEGORIES:Reentry
ATTACH;FMTTYPE=image/webp:https://www.foundationofhope.org/wp-content/uploads/reentry-calendar-feature.webp
END:VEVENT
BEGIN:VEVENT
DTSTART;TZID=America/New_York:20270806T130000
DTEND;TZID=America/New_York:20270806T140000
DTSTAMP:20260422T205728
CREATED:20240123T192213Z
LAST-MODIFIED:20240629T161233Z
UID:10004988-1817557200-1817560800@www.foundationofhope.org
SUMMARY:Weekly PIRC Support Group – Northside (Friday)
DESCRIPTION:Weekly PIRC Support Group (Positive Initiative to Reinforce Change)\nThe PIRC Movement is for returning citizens and their supporters to change the community by first changing themselves.\nWe meet every Friday from 1:00-2:00 pm.\nThis group is for men and women. All are welcome and no need to RSVP.
URL:https://www.foundationofhope.org/event/weekly-pirc-support-group-northside-friday/2027-08-06/
LOCATION:Foundation of HOPE\, 901 Pennsylvania Avenue\, Suite 3A\, Pittsburgh\, PA\, 15233\, United States
CATEGORIES:Reentry
ATTACH;FMTTYPE=image/webp:https://www.foundationofhope.org/wp-content/uploads/reentry-calendar-feature.webp
END:VEVENT
BEGIN:VEVENT
DTSTART;TZID=America/New_York:20270809T190000
DTEND;TZID=America/New_York:20270809T200000
DTSTAMP:20260422T205728
CREATED:20231213T220053Z
LAST-MODIFIED:20240703T203455Z
UID:10003871-1817838000-1817841600@www.foundationofhope.org
SUMMARY:Weekly PIRC Support Group – Sharpsburg
DESCRIPTION:Weekly PIRC Support Group (Positive Initiative to Reinforce Change)\nThe PIRC Movement is for returning citizens and their supporters to change the community by first changing themselves.\nWe meet every Wednesday from 7:00-8:00 pm.\nThis group is for men and women.\nAll are welcome and no need to RSVP.
URL:https://www.foundationofhope.org/event/weekly-pirc-support-group-sharpsburg/2027-08-09/
LOCATION:Roots of Faith\, 800 Main St.\, Sharpsburg\, PA\, 15215\, United States
CATEGORIES:Reentry
ATTACH;FMTTYPE=image/webp:https://www.foundationofhope.org/wp-content/uploads/reentry-calendar-feature.webp
END:VEVENT
BEGIN:VEVENT
DTSTART;TZID=America/New_York:20270810T190000
DTEND;TZID=America/New_York:20270810T200000
DTSTAMP:20260422T205728
CREATED:20180626T234844Z
LAST-MODIFIED:20240629T162514Z
UID:10000996-1817924400-1817928000@www.foundationofhope.org
SUMMARY:Weekly PIRC Support Group – Northside (Tuesday)
DESCRIPTION:Weekly PIRC Support Group (Positive Initiative to Reinforce Change)\nThe PIRC Movement is for returning citizens and their supporters to change the community by first changing themselves.\nWe meet every Tuesday from 7:00-8:00 pm.\nThis group is for men and women. All are welcome and no need to RSVP.
URL:https://www.foundationofhope.org/event/weekly-pirc-support-group/2027-08-10/
LOCATION:Foundation of HOPE\, 901 Pennsylvania Avenue\, Suite 3A\, Pittsburgh\, PA\, 15233\, United States
CATEGORIES:Reentry
ATTACH;FMTTYPE=image/webp:https://www.foundationofhope.org/wp-content/uploads/reentry-calendar-feature.webp
END:VEVENT
BEGIN:VEVENT
DTSTART;TZID=America/New_York:20270811T190000
DTEND;TZID=America/New_York:20270811T200000
DTSTAMP:20260422T205728
CREATED:20250807T212617Z
LAST-MODIFIED:20250807T212618Z
UID:10005437-1818010800-1818014400@www.foundationofhope.org
SUMMARY:Weekly PIRC Support Group – McKeesport
DESCRIPTION:Weekly PIRC Support Group (Positive Initiative to Reinforce Change)\nThe PIRC Movement is for returning citizens and their supporters to change the community by first changing themselves.\nWe meet every Wednesday from 7:00-8:00 pm.\nThis group is for men and women.\nAll are welcome and no need to RSVP.
URL:https://www.foundationofhope.org/event/weekly-pirc-support-group-mckeesport-2-2/2027-08-11/
LOCATION:McKeesport YMCA\, 523 Sinclair St.\, McKeesport\, PA\, 15132\, United States
CATEGORIES:Reentry
ATTACH;FMTTYPE=image/webp:https://www.foundationofhope.org/wp-content/uploads/reentry-calendar-feature.webp
END:VEVENT
BEGIN:VEVENT
DTSTART;TZID=America/New_York:20270812T180000
DTEND;TZID=America/New_York:20270812T190000
DTSTAMP:20260422T205728
CREATED:20230724T160032Z
LAST-MODIFIED:20240629T161404Z
UID:10002824-1818093600-1818097200@www.foundationofhope.org
SUMMARY:Weekly PIRC Support Group – McKees Rocks
DESCRIPTION:Weekly PIRC Support Group (Positive Initiative to Reinforce Change)\nThe PIRC Movement is for returning citizens and their supporters to change the community by first changing themselves.\nWe meet every Thursday from 6:00-7:00 pm.\nThis group is for men and women.\nAll are welcome and no need to RSVP.
URL:https://www.foundationofhope.org/event/weekly-pirc-support-group-mckees-rocks/2027-08-12/
LOCATION:C.A.S.H. Club\, 827 Broadway Avenue\, McKees Rocks\, PA\, 15136\, United States
CATEGORIES:Reentry
ATTACH;FMTTYPE=image/webp:https://www.foundationofhope.org/wp-content/uploads/reentry-calendar-feature.webp
END:VEVENT
BEGIN:VEVENT
DTSTART;TZID=America/New_York:20270813T130000
DTEND;TZID=America/New_York:20270813T140000
DTSTAMP:20260422T205728
CREATED:20240123T192213Z
LAST-MODIFIED:20240629T161233Z
UID:10004989-1818162000-1818165600@www.foundationofhope.org
SUMMARY:Weekly PIRC Support Group – Northside (Friday)
DESCRIPTION:Weekly PIRC Support Group (Positive Initiative to Reinforce Change)\nThe PIRC Movement is for returning citizens and their supporters to change the community by first changing themselves.\nWe meet every Friday from 1:00-2:00 pm.\nThis group is for men and women. All are welcome and no need to RSVP.
URL:https://www.foundationofhope.org/event/weekly-pirc-support-group-northside-friday/2027-08-13/
LOCATION:Foundation of HOPE\, 901 Pennsylvania Avenue\, Suite 3A\, Pittsburgh\, PA\, 15233\, United States
CATEGORIES:Reentry
ATTACH;FMTTYPE=image/webp:https://www.foundationofhope.org/wp-content/uploads/reentry-calendar-feature.webp
END:VEVENT
BEGIN:VEVENT
DTSTART;TZID=America/New_York:20270816T190000
DTEND;TZID=America/New_York:20270816T200000
DTSTAMP:20260422T205728
CREATED:20231213T220053Z
LAST-MODIFIED:20240703T203455Z
UID:10003872-1818442800-1818446400@www.foundationofhope.org
SUMMARY:Weekly PIRC Support Group – Sharpsburg
DESCRIPTION:Weekly PIRC Support Group (Positive Initiative to Reinforce Change)\nThe PIRC Movement is for returning citizens and their supporters to change the community by first changing themselves.\nWe meet every Wednesday from 7:00-8:00 pm.\nThis group is for men and women.\nAll are welcome and no need to RSVP.
URL:https://www.foundationofhope.org/event/weekly-pirc-support-group-sharpsburg/2027-08-16/
LOCATION:Roots of Faith\, 800 Main St.\, Sharpsburg\, PA\, 15215\, United States
CATEGORIES:Reentry
ATTACH;FMTTYPE=image/webp:https://www.foundationofhope.org/wp-content/uploads/reentry-calendar-feature.webp
END:VEVENT
BEGIN:VEVENT
DTSTART;TZID=America/New_York:20270817T190000
DTEND;TZID=America/New_York:20270817T200000
DTSTAMP:20260422T205728
CREATED:20180626T234844Z
LAST-MODIFIED:20240629T162514Z
UID:10000997-1818529200-1818532800@www.foundationofhope.org
SUMMARY:Weekly PIRC Support Group – Northside (Tuesday)
DESCRIPTION:Weekly PIRC Support Group (Positive Initiative to Reinforce Change)\nThe PIRC Movement is for returning citizens and their supporters to change the community by first changing themselves.\nWe meet every Tuesday from 7:00-8:00 pm.\nThis group is for men and women. All are welcome and no need to RSVP.
URL:https://www.foundationofhope.org/event/weekly-pirc-support-group/2027-08-17/
LOCATION:Foundation of HOPE\, 901 Pennsylvania Avenue\, Suite 3A\, Pittsburgh\, PA\, 15233\, United States
CATEGORIES:Reentry
ATTACH;FMTTYPE=image/webp:https://www.foundationofhope.org/wp-content/uploads/reentry-calendar-feature.webp
END:VEVENT
BEGIN:VEVENT
DTSTART;TZID=America/New_York:20270818T190000
DTEND;TZID=America/New_York:20270818T200000
DTSTAMP:20260422T205728
CREATED:20250807T212617Z
LAST-MODIFIED:20250807T212618Z
UID:10005438-1818615600-1818619200@www.foundationofhope.org
SUMMARY:Weekly PIRC Support Group – McKeesport
DESCRIPTION:Weekly PIRC Support Group (Positive Initiative to Reinforce Change)\nThe PIRC Movement is for returning citizens and their supporters to change the community by first changing themselves.\nWe meet every Wednesday from 7:00-8:00 pm.\nThis group is for men and women.\nAll are welcome and no need to RSVP.
URL:https://www.foundationofhope.org/event/weekly-pirc-support-group-mckeesport-2-2/2027-08-18/
LOCATION:McKeesport YMCA\, 523 Sinclair St.\, McKeesport\, PA\, 15132\, United States
CATEGORIES:Reentry
ATTACH;FMTTYPE=image/webp:https://www.foundationofhope.org/wp-content/uploads/reentry-calendar-feature.webp
END:VEVENT
BEGIN:VEVENT
DTSTART;TZID=America/New_York:20270819T180000
DTEND;TZID=America/New_York:20270819T190000
DTSTAMP:20260422T205728
CREATED:20230724T160032Z
LAST-MODIFIED:20240629T161404Z
UID:10002825-1818698400-1818702000@www.foundationofhope.org
SUMMARY:Weekly PIRC Support Group – McKees Rocks
DESCRIPTION:Weekly PIRC Support Group (Positive Initiative to Reinforce Change)\nThe PIRC Movement is for returning citizens and their supporters to change the community by first changing themselves.\nWe meet every Thursday from 6:00-7:00 pm.\nThis group is for men and women.\nAll are welcome and no need to RSVP.
URL:https://www.foundationofhope.org/event/weekly-pirc-support-group-mckees-rocks/2027-08-19/
LOCATION:C.A.S.H. Club\, 827 Broadway Avenue\, McKees Rocks\, PA\, 15136\, United States
CATEGORIES:Reentry
ATTACH;FMTTYPE=image/webp:https://www.foundationofhope.org/wp-content/uploads/reentry-calendar-feature.webp
END:VEVENT
BEGIN:VEVENT
DTSTART;TZID=America/New_York:20270820T130000
DTEND;TZID=America/New_York:20270820T140000
DTSTAMP:20260422T205728
CREATED:20240123T192213Z
LAST-MODIFIED:20240629T161233Z
UID:10004990-1818766800-1818770400@www.foundationofhope.org
SUMMARY:Weekly PIRC Support Group – Northside (Friday)
DESCRIPTION:Weekly PIRC Support Group (Positive Initiative to Reinforce Change)\nThe PIRC Movement is for returning citizens and their supporters to change the community by first changing themselves.\nWe meet every Friday from 1:00-2:00 pm.\nThis group is for men and women. All are welcome and no need to RSVP.
URL:https://www.foundationofhope.org/event/weekly-pirc-support-group-northside-friday/2027-08-20/
LOCATION:Foundation of HOPE\, 901 Pennsylvania Avenue\, Suite 3A\, Pittsburgh\, PA\, 15233\, United States
CATEGORIES:Reentry
ATTACH;FMTTYPE=image/webp:https://www.foundationofhope.org/wp-content/uploads/reentry-calendar-feature.webp
END:VEVENT
BEGIN:VEVENT
DTSTART;TZID=America/New_York:20270823T190000
DTEND;TZID=America/New_York:20270823T200000
DTSTAMP:20260422T205728
CREATED:20231213T220053Z
LAST-MODIFIED:20240703T203455Z
UID:10003873-1819047600-1819051200@www.foundationofhope.org
SUMMARY:Weekly PIRC Support Group – Sharpsburg
DESCRIPTION:Weekly PIRC Support Group (Positive Initiative to Reinforce Change)\nThe PIRC Movement is for returning citizens and their supporters to change the community by first changing themselves.\nWe meet every Wednesday from 7:00-8:00 pm.\nThis group is for men and women.\nAll are welcome and no need to RSVP.
URL:https://www.foundationofhope.org/event/weekly-pirc-support-group-sharpsburg/2027-08-23/
LOCATION:Roots of Faith\, 800 Main St.\, Sharpsburg\, PA\, 15215\, United States
CATEGORIES:Reentry
ATTACH;FMTTYPE=image/webp:https://www.foundationofhope.org/wp-content/uploads/reentry-calendar-feature.webp
END:VEVENT
BEGIN:VEVENT
DTSTART;TZID=America/New_York:20270824T190000
DTEND;TZID=America/New_York:20270824T200000
DTSTAMP:20260422T205728
CREATED:20180626T234844Z
LAST-MODIFIED:20240629T162514Z
UID:10000998-1819134000-1819137600@www.foundationofhope.org
SUMMARY:Weekly PIRC Support Group – Northside (Tuesday)
DESCRIPTION:Weekly PIRC Support Group (Positive Initiative to Reinforce Change)\nThe PIRC Movement is for returning citizens and their supporters to change the community by first changing themselves.\nWe meet every Tuesday from 7:00-8:00 pm.\nThis group is for men and women. All are welcome and no need to RSVP.
URL:https://www.foundationofhope.org/event/weekly-pirc-support-group/2027-08-24/
LOCATION:Foundation of HOPE\, 901 Pennsylvania Avenue\, Suite 3A\, Pittsburgh\, PA\, 15233\, United States
CATEGORIES:Reentry
ATTACH;FMTTYPE=image/webp:https://www.foundationofhope.org/wp-content/uploads/reentry-calendar-feature.webp
END:VEVENT
BEGIN:VEVENT
DTSTART;TZID=America/New_York:20270825T190000
DTEND;TZID=America/New_York:20270825T200000
DTSTAMP:20260422T205728
CREATED:20250807T212617Z
LAST-MODIFIED:20250807T212618Z
UID:10005439-1819220400-1819224000@www.foundationofhope.org
SUMMARY:Weekly PIRC Support Group – McKeesport
DESCRIPTION:Weekly PIRC Support Group (Positive Initiative to Reinforce Change)\nThe PIRC Movement is for returning citizens and their supporters to change the community by first changing themselves.\nWe meet every Wednesday from 7:00-8:00 pm.\nThis group is for men and women.\nAll are welcome and no need to RSVP.
URL:https://www.foundationofhope.org/event/weekly-pirc-support-group-mckeesport-2-2/2027-08-25/
LOCATION:McKeesport YMCA\, 523 Sinclair St.\, McKeesport\, PA\, 15132\, United States
CATEGORIES:Reentry
ATTACH;FMTTYPE=image/webp:https://www.foundationofhope.org/wp-content/uploads/reentry-calendar-feature.webp
END:VEVENT
BEGIN:VEVENT
DTSTART;TZID=America/New_York:20270826T180000
DTEND;TZID=America/New_York:20270826T190000
DTSTAMP:20260422T205728
CREATED:20230724T160032Z
LAST-MODIFIED:20240629T161404Z
UID:10002826-1819303200-1819306800@www.foundationofhope.org
SUMMARY:Weekly PIRC Support Group – McKees Rocks
DESCRIPTION:Weekly PIRC Support Group (Positive Initiative to Reinforce Change)\nThe PIRC Movement is for returning citizens and their supporters to change the community by first changing themselves.\nWe meet every Thursday from 6:00-7:00 pm.\nThis group is for men and women.\nAll are welcome and no need to RSVP.
URL:https://www.foundationofhope.org/event/weekly-pirc-support-group-mckees-rocks/2027-08-26/
LOCATION:C.A.S.H. Club\, 827 Broadway Avenue\, McKees Rocks\, PA\, 15136\, United States
CATEGORIES:Reentry
ATTACH;FMTTYPE=image/webp:https://www.foundationofhope.org/wp-content/uploads/reentry-calendar-feature.webp
END:VEVENT
BEGIN:VEVENT
DTSTART;TZID=America/New_York:20270827T130000
DTEND;TZID=America/New_York:20270827T140000
DTSTAMP:20260422T205728
CREATED:20240123T192213Z
LAST-MODIFIED:20240629T161233Z
UID:10004991-1819371600-1819375200@www.foundationofhope.org
SUMMARY:Weekly PIRC Support Group – Northside (Friday)
DESCRIPTION:Weekly PIRC Support Group (Positive Initiative to Reinforce Change)\nThe PIRC Movement is for returning citizens and their supporters to change the community by first changing themselves.\nWe meet every Friday from 1:00-2:00 pm.\nThis group is for men and women. All are welcome and no need to RSVP.
URL:https://www.foundationofhope.org/event/weekly-pirc-support-group-northside-friday/2027-08-27/
LOCATION:Foundation of HOPE\, 901 Pennsylvania Avenue\, Suite 3A\, Pittsburgh\, PA\, 15233\, United States
CATEGORIES:Reentry
ATTACH;FMTTYPE=image/webp:https://www.foundationofhope.org/wp-content/uploads/reentry-calendar-feature.webp
END:VEVENT
BEGIN:VEVENT
DTSTART;TZID=America/New_York:20270830T190000
DTEND;TZID=America/New_York:20270830T200000
DTSTAMP:20260422T205728
CREATED:20231213T220053Z
LAST-MODIFIED:20240703T203455Z
UID:10003874-1819652400-1819656000@www.foundationofhope.org
SUMMARY:Weekly PIRC Support Group – Sharpsburg
DESCRIPTION:Weekly PIRC Support Group (Positive Initiative to Reinforce Change)\nThe PIRC Movement is for returning citizens and their supporters to change the community by first changing themselves.\nWe meet every Wednesday from 7:00-8:00 pm.\nThis group is for men and women.\nAll are welcome and no need to RSVP.
URL:https://www.foundationofhope.org/event/weekly-pirc-support-group-sharpsburg/2027-08-30/
LOCATION:Roots of Faith\, 800 Main St.\, Sharpsburg\, PA\, 15215\, United States
CATEGORIES:Reentry
ATTACH;FMTTYPE=image/webp:https://www.foundationofhope.org/wp-content/uploads/reentry-calendar-feature.webp
END:VEVENT
BEGIN:VEVENT
DTSTART;TZID=America/New_York:20270831T190000
DTEND;TZID=America/New_York:20270831T200000
DTSTAMP:20260422T205728
CREATED:20180626T234844Z
LAST-MODIFIED:20240629T162514Z
UID:10000999-1819738800-1819742400@www.foundationofhope.org
SUMMARY:Weekly PIRC Support Group – Northside (Tuesday)
DESCRIPTION:Weekly PIRC Support Group (Positive Initiative to Reinforce Change)\nThe PIRC Movement is for returning citizens and their supporters to change the community by first changing themselves.\nWe meet every Tuesday from 7:00-8:00 pm.\nThis group is for men and women. All are welcome and no need to RSVP.
URL:https://www.foundationofhope.org/event/weekly-pirc-support-group/2027-08-31/
LOCATION:Foundation of HOPE\, 901 Pennsylvania Avenue\, Suite 3A\, Pittsburgh\, PA\, 15233\, United States
CATEGORIES:Reentry
ATTACH;FMTTYPE=image/webp:https://www.foundationofhope.org/wp-content/uploads/reentry-calendar-feature.webp
END:VEVENT
BEGIN:VEVENT
DTSTART;TZID=America/New_York:20270901T190000
DTEND;TZID=America/New_York:20270901T200000
DTSTAMP:20260422T205728
CREATED:20250807T212617Z
LAST-MODIFIED:20250807T212618Z
UID:10005440-1819825200-1819828800@www.foundationofhope.org
SUMMARY:Weekly PIRC Support Group – McKeesport
DESCRIPTION:Weekly PIRC Support Group (Positive Initiative to Reinforce Change)\nThe PIRC Movement is for returning citizens and their supporters to change the community by first changing themselves.\nWe meet every Wednesday from 7:00-8:00 pm.\nThis group is for men and women.\nAll are welcome and no need to RSVP.
URL:https://www.foundationofhope.org/event/weekly-pirc-support-group-mckeesport-2-2/2027-09-01/
LOCATION:McKeesport YMCA\, 523 Sinclair St.\, McKeesport\, PA\, 15132\, United States
CATEGORIES:Reentry
ATTACH;FMTTYPE=image/webp:https://www.foundationofhope.org/wp-content/uploads/reentry-calendar-feature.webp
END:VEVENT
BEGIN:VEVENT
DTSTART;TZID=America/New_York:20270902T180000
DTEND;TZID=America/New_York:20270902T190000
DTSTAMP:20260422T205728
CREATED:20230724T160032Z
LAST-MODIFIED:20240629T161404Z
UID:10002827-1819908000-1819911600@www.foundationofhope.org
SUMMARY:Weekly PIRC Support Group – McKees Rocks
DESCRIPTION:Weekly PIRC Support Group (Positive Initiative to Reinforce Change)\nThe PIRC Movement is for returning citizens and their supporters to change the community by first changing themselves.\nWe meet every Thursday from 6:00-7:00 pm.\nThis group is for men and women.\nAll are welcome and no need to RSVP.
URL:https://www.foundationofhope.org/event/weekly-pirc-support-group-mckees-rocks/2027-09-02/
LOCATION:C.A.S.H. Club\, 827 Broadway Avenue\, McKees Rocks\, PA\, 15136\, United States
CATEGORIES:Reentry
ATTACH;FMTTYPE=image/webp:https://www.foundationofhope.org/wp-content/uploads/reentry-calendar-feature.webp
END:VEVENT
BEGIN:VEVENT
DTSTART;TZID=America/New_York:20270903T130000
DTEND;TZID=America/New_York:20270903T140000
DTSTAMP:20260422T205728
CREATED:20240123T192213Z
LAST-MODIFIED:20240629T161233Z
UID:10004992-1819976400-1819980000@www.foundationofhope.org
SUMMARY:Weekly PIRC Support Group – Northside (Friday)
DESCRIPTION:Weekly PIRC Support Group (Positive Initiative to Reinforce Change)\nThe PIRC Movement is for returning citizens and their supporters to change the community by first changing themselves.\nWe meet every Friday from 1:00-2:00 pm.\nThis group is for men and women. All are welcome and no need to RSVP.
URL:https://www.foundationofhope.org/event/weekly-pirc-support-group-northside-friday/2027-09-03/
LOCATION:Foundation of HOPE\, 901 Pennsylvania Avenue\, Suite 3A\, Pittsburgh\, PA\, 15233\, United States
CATEGORIES:Reentry
ATTACH;FMTTYPE=image/webp:https://www.foundationofhope.org/wp-content/uploads/reentry-calendar-feature.webp
END:VEVENT
BEGIN:VEVENT
DTSTART;TZID=America/New_York:20270906T190000
DTEND;TZID=America/New_York:20270906T200000
DTSTAMP:20260422T205728
CREATED:20231213T220053Z
LAST-MODIFIED:20240703T203455Z
UID:10003875-1820257200-1820260800@www.foundationofhope.org
SUMMARY:Weekly PIRC Support Group – Sharpsburg
DESCRIPTION:Weekly PIRC Support Group (Positive Initiative to Reinforce Change)\nThe PIRC Movement is for returning citizens and their supporters to change the community by first changing themselves.\nWe meet every Wednesday from 7:00-8:00 pm.\nThis group is for men and women.\nAll are welcome and no need to RSVP.
URL:https://www.foundationofhope.org/event/weekly-pirc-support-group-sharpsburg/2027-09-06/
LOCATION:Roots of Faith\, 800 Main St.\, Sharpsburg\, PA\, 15215\, United States
CATEGORIES:Reentry
ATTACH;FMTTYPE=image/webp:https://www.foundationofhope.org/wp-content/uploads/reentry-calendar-feature.webp
END:VEVENT
BEGIN:VEVENT
DTSTART;TZID=America/New_York:20270907T190000
DTEND;TZID=America/New_York:20270907T200000
DTSTAMP:20260422T205728
CREATED:20180626T234844Z
LAST-MODIFIED:20240629T162514Z
UID:10001000-1820343600-1820347200@www.foundationofhope.org
SUMMARY:Weekly PIRC Support Group – Northside (Tuesday)
DESCRIPTION:Weekly PIRC Support Group (Positive Initiative to Reinforce Change)\nThe PIRC Movement is for returning citizens and their supporters to change the community by first changing themselves.\nWe meet every Tuesday from 7:00-8:00 pm.\nThis group is for men and women. All are welcome and no need to RSVP.
URL:https://www.foundationofhope.org/event/weekly-pirc-support-group/2027-09-07/
LOCATION:Foundation of HOPE\, 901 Pennsylvania Avenue\, Suite 3A\, Pittsburgh\, PA\, 15233\, United States
CATEGORIES:Reentry
ATTACH;FMTTYPE=image/webp:https://www.foundationofhope.org/wp-content/uploads/reentry-calendar-feature.webp
END:VEVENT
BEGIN:VEVENT
DTSTART;TZID=America/New_York:20270908T190000
DTEND;TZID=America/New_York:20270908T200000
DTSTAMP:20260422T205728
CREATED:20250807T212617Z
LAST-MODIFIED:20250807T212618Z
UID:10005441-1820430000-1820433600@www.foundationofhope.org
SUMMARY:Weekly PIRC Support Group – McKeesport
DESCRIPTION:Weekly PIRC Support Group (Positive Initiative to Reinforce Change)\nThe PIRC Movement is for returning citizens and their supporters to change the community by first changing themselves.\nWe meet every Wednesday from 7:00-8:00 pm.\nThis group is for men and women.\nAll are welcome and no need to RSVP.
URL:https://www.foundationofhope.org/event/weekly-pirc-support-group-mckeesport-2-2/2027-09-08/
LOCATION:McKeesport YMCA\, 523 Sinclair St.\, McKeesport\, PA\, 15132\, United States
CATEGORIES:Reentry
ATTACH;FMTTYPE=image/webp:https://www.foundationofhope.org/wp-content/uploads/reentry-calendar-feature.webp
END:VEVENT
END:VCALENDAR