BEGIN:VCALENDAR
VERSION:2.0
PRODID:-//Foundation of Hope - ECPv6.15.18//NONSGML v1.0//EN
CALSCALE:GREGORIAN
METHOD:PUBLISH
X-WR-CALNAME:Foundation of Hope
X-ORIGINAL-URL:https://www.foundationofhope.org
X-WR-CALDESC:Events for Foundation of Hope
REFRESH-INTERVAL;VALUE=DURATION:PT1H
X-Robots-Tag:noindex
X-PUBLISHED-TTL:PT1H
BEGIN:VTIMEZONE
TZID:America/New_York
BEGIN:DAYLIGHT
TZOFFSETFROM:-0500
TZOFFSETTO:-0400
TZNAME:EDT
DTSTART:20250309T070000
END:DAYLIGHT
BEGIN:STANDARD
TZOFFSETFROM:-0400
TZOFFSETTO:-0500
TZNAME:EST
DTSTART:20251102T060000
END:STANDARD
BEGIN:DAYLIGHT
TZOFFSETFROM:-0500
TZOFFSETTO:-0400
TZNAME:EDT
DTSTART:20260308T070000
END:DAYLIGHT
BEGIN:STANDARD
TZOFFSETFROM:-0400
TZOFFSETTO:-0500
TZNAME:EST
DTSTART:20261101T060000
END:STANDARD
BEGIN:DAYLIGHT
TZOFFSETFROM:-0500
TZOFFSETTO:-0400
TZNAME:EDT
DTSTART:20270314T070000
END:DAYLIGHT
BEGIN:STANDARD
TZOFFSETFROM:-0400
TZOFFSETTO:-0500
TZNAME:EST
DTSTART:20271107T060000
END:STANDARD
END:VTIMEZONE
BEGIN:VEVENT
DTSTART;TZID=America/New_York:20261005T190000
DTEND;TZID=America/New_York:20261005T200000
DTSTAMP:20260420T151116
CREATED:20231213T220053Z
LAST-MODIFIED:20240703T203455Z
UID:10003827-1791226800-1791230400@www.foundationofhope.org
SUMMARY:Weekly PIRC Support Group – Sharpsburg
DESCRIPTION:Weekly PIRC Support Group (Positive Initiative to Reinforce Change)\nThe PIRC Movement is for returning citizens and their supporters to change the community by first changing themselves.\nWe meet every Wednesday from 7:00-8:00 pm.\nThis group is for men and women.\nAll are welcome and no need to RSVP.
URL:https://www.foundationofhope.org/event/weekly-pirc-support-group-sharpsburg/2026-10-05/
LOCATION:Roots of Faith\, 800 Main St.\, Sharpsburg\, PA\, 15215\, United States
CATEGORIES:Reentry
ATTACH;FMTTYPE=image/webp:https://www.foundationofhope.org/wp-content/uploads/reentry-calendar-feature.webp
END:VEVENT
BEGIN:VEVENT
DTSTART;TZID=America/New_York:20261006T190000
DTEND;TZID=America/New_York:20261006T200000
DTSTAMP:20260420T151116
CREATED:20180626T234844Z
LAST-MODIFIED:20240629T162514Z
UID:10000952-1791313200-1791316800@www.foundationofhope.org
SUMMARY:Weekly PIRC Support Group – Northside (Tuesday)
DESCRIPTION:Weekly PIRC Support Group (Positive Initiative to Reinforce Change)\nThe PIRC Movement is for returning citizens and their supporters to change the community by first changing themselves.\nWe meet every Tuesday from 7:00-8:00 pm.\nThis group is for men and women. All are welcome and no need to RSVP.
URL:https://www.foundationofhope.org/event/weekly-pirc-support-group/2026-10-06/
LOCATION:Foundation of HOPE\, 901 Pennsylvania Avenue\, Suite 3A\, Pittsburgh\, PA\, 15233\, United States
CATEGORIES:Reentry
ATTACH;FMTTYPE=image/webp:https://www.foundationofhope.org/wp-content/uploads/reentry-calendar-feature.webp
END:VEVENT
BEGIN:VEVENT
DTSTART;TZID=America/New_York:20261007T190000
DTEND;TZID=America/New_York:20261007T200000
DTSTAMP:20260420T151116
CREATED:20250807T212617Z
LAST-MODIFIED:20250807T212618Z
UID:10005393-1791399600-1791403200@www.foundationofhope.org
SUMMARY:Weekly PIRC Support Group – McKeesport
DESCRIPTION:Weekly PIRC Support Group (Positive Initiative to Reinforce Change)\nThe PIRC Movement is for returning citizens and their supporters to change the community by first changing themselves.\nWe meet every Wednesday from 7:00-8:00 pm.\nThis group is for men and women.\nAll are welcome and no need to RSVP.
URL:https://www.foundationofhope.org/event/weekly-pirc-support-group-mckeesport-2-2/2026-10-07/
LOCATION:McKeesport YMCA\, 523 Sinclair St.\, McKeesport\, PA\, 15132\, United States
CATEGORIES:Reentry
ATTACH;FMTTYPE=image/webp:https://www.foundationofhope.org/wp-content/uploads/reentry-calendar-feature.webp
END:VEVENT
BEGIN:VEVENT
DTSTART;TZID=America/New_York:20261008T180000
DTEND;TZID=America/New_York:20261008T190000
DTSTAMP:20260420T151116
CREATED:20230724T160032Z
LAST-MODIFIED:20240629T161404Z
UID:10002780-1791482400-1791486000@www.foundationofhope.org
SUMMARY:Weekly PIRC Support Group – McKees Rocks
DESCRIPTION:Weekly PIRC Support Group (Positive Initiative to Reinforce Change)\nThe PIRC Movement is for returning citizens and their supporters to change the community by first changing themselves.\nWe meet every Thursday from 6:00-7:00 pm.\nThis group is for men and women.\nAll are welcome and no need to RSVP.
URL:https://www.foundationofhope.org/event/weekly-pirc-support-group-mckees-rocks/2026-10-08/
LOCATION:C.A.S.H. Club\, 827 Broadway Avenue\, McKees Rocks\, PA\, 15136\, United States
CATEGORIES:Reentry
ATTACH;FMTTYPE=image/webp:https://www.foundationofhope.org/wp-content/uploads/reentry-calendar-feature.webp
END:VEVENT
BEGIN:VEVENT
DTSTART;TZID=America/New_York:20261009T130000
DTEND;TZID=America/New_York:20261009T140000
DTSTAMP:20260420T151116
CREATED:20240123T192213Z
LAST-MODIFIED:20240629T161233Z
UID:10004945-1791550800-1791554400@www.foundationofhope.org
SUMMARY:Weekly PIRC Support Group – Northside (Friday)
DESCRIPTION:Weekly PIRC Support Group (Positive Initiative to Reinforce Change)\nThe PIRC Movement is for returning citizens and their supporters to change the community by first changing themselves.\nWe meet every Friday from 1:00-2:00 pm.\nThis group is for men and women. All are welcome and no need to RSVP.
URL:https://www.foundationofhope.org/event/weekly-pirc-support-group-northside-friday/2026-10-09/
LOCATION:Foundation of HOPE\, 901 Pennsylvania Avenue\, Suite 3A\, Pittsburgh\, PA\, 15233\, United States
CATEGORIES:Reentry
ATTACH;FMTTYPE=image/webp:https://www.foundationofhope.org/wp-content/uploads/reentry-calendar-feature.webp
END:VEVENT
END:VCALENDAR